BEGIN:VCALENDAR
VERSION:2.0
PRODID:-//Life Church Birmingham - ECPv6.15.13//NONSGML v1.0//EN
CALSCALE:GREGORIAN
METHOD:PUBLISH
X-ORIGINAL-URL:https://www.lifechurchal.com
X-WR-CALDESC:Events for Life Church Birmingham
REFRESH-INTERVAL;VALUE=DURATION:PT1H
X-Robots-Tag:noindex
X-PUBLISHED-TTL:PT1H
BEGIN:VTIMEZONE
TZID:America/New_York
BEGIN:DAYLIGHT
TZOFFSETFROM:-0500
TZOFFSETTO:-0400
TZNAME:EDT
DTSTART:20160313T070000
END:DAYLIGHT
BEGIN:STANDARD
TZOFFSETFROM:-0400
TZOFFSETTO:-0500
TZNAME:EST
DTSTART:20161106T060000
END:STANDARD
BEGIN:DAYLIGHT
TZOFFSETFROM:-0500
TZOFFSETTO:-0400
TZNAME:EDT
DTSTART:20170312T070000
END:DAYLIGHT
BEGIN:STANDARD
TZOFFSETFROM:-0400
TZOFFSETTO:-0500
TZNAME:EST
DTSTART:20171105T060000
END:STANDARD
BEGIN:DAYLIGHT
TZOFFSETFROM:-0500
TZOFFSETTO:-0400
TZNAME:EDT
DTSTART:20180311T070000
END:DAYLIGHT
BEGIN:STANDARD
TZOFFSETFROM:-0400
TZOFFSETTO:-0500
TZNAME:EST
DTSTART:20181104T060000
END:STANDARD
END:VTIMEZONE
BEGIN:VEVENT
DTSTART;TZID=America/New_York:20170723T150000
DTEND;TZID=America/New_York:20170723T180000
DTSTAMP:20260424T011319
CREATED:20170705T202234Z
LAST-MODIFIED:20170705T202234Z
UID:10001252-1500822000-1500832800@www.lifechurchal.com
SUMMARY:Birmingham Barons Game
DESCRIPTION:Mark your calendar for July 23rd @ 3 pm. We’re going to a Birmingham Barons games. Tickets are $10.00 per person and include a hot dog\, chips and drink. We will be sitting on the lawn\, so bring blankets (no chairs). Kids will be able to run around and play too! We would love for you to join us for this exciting event! The deadline to sign up is July 12. You can sign up at the welcome center or call us to reserve your ticket.
URL:https://www.lifechurchal.com/event/birmingham-barons-game/
LOCATION:Regions Feild\, 1st Avenue S.\, Birmingham\, AL\, 35233
CATEGORIES:Family,Kids
GEO:33.514914;-86.7974623
X-APPLE-STRUCTURED-LOCATION;VALUE=URI;X-ADDRESS=Regions Feild 1st Avenue S. Birmingham AL 35233;X-APPLE-RADIUS=500;X-TITLE=1st Avenue S.:geo:-86.7974623,33.514914
END:VEVENT
END:VCALENDAR