BEGIN:VCALENDAR
VERSION:2.0
PRODID:-//Life Church Birmingham - ECPv6.15.13//NONSGML v1.0//EN
CALSCALE:GREGORIAN
METHOD:PUBLISH
X-WR-CALNAME:Life Church Birmingham
X-ORIGINAL-URL:https://www.lifechurchal.com
X-WR-CALDESC:Events for Life Church Birmingham
REFRESH-INTERVAL;VALUE=DURATION:PT1H
X-Robots-Tag:noindex
X-PUBLISHED-TTL:PT1H
BEGIN:VTIMEZONE
TZID:America/New_York
BEGIN:DAYLIGHT
TZOFFSETFROM:-0500
TZOFFSETTO:-0400
TZNAME:EDT
DTSTART:20160313T070000
END:DAYLIGHT
BEGIN:STANDARD
TZOFFSETFROM:-0400
TZOFFSETTO:-0500
TZNAME:EST
DTSTART:20161106T060000
END:STANDARD
BEGIN:DAYLIGHT
TZOFFSETFROM:-0500
TZOFFSETTO:-0400
TZNAME:EDT
DTSTART:20170312T070000
END:DAYLIGHT
BEGIN:STANDARD
TZOFFSETFROM:-0400
TZOFFSETTO:-0500
TZNAME:EST
DTSTART:20171105T060000
END:STANDARD
BEGIN:DAYLIGHT
TZOFFSETFROM:-0500
TZOFFSETTO:-0400
TZNAME:EDT
DTSTART:20180311T070000
END:DAYLIGHT
BEGIN:STANDARD
TZOFFSETFROM:-0400
TZOFFSETTO:-0500
TZNAME:EST
DTSTART:20181104T060000
END:STANDARD
BEGIN:DAYLIGHT
TZOFFSETFROM:-0500
TZOFFSETTO:-0400
TZNAME:EDT
DTSTART:20190310T070000
END:DAYLIGHT
BEGIN:STANDARD
TZOFFSETFROM:-0400
TZOFFSETTO:-0500
TZNAME:EST
DTSTART:20191103T060000
END:STANDARD
BEGIN:DAYLIGHT
TZOFFSETFROM:-0500
TZOFFSETTO:-0400
TZNAME:EDT
DTSTART:20200308T070000
END:DAYLIGHT
BEGIN:STANDARD
TZOFFSETFROM:-0400
TZOFFSETTO:-0500
TZNAME:EST
DTSTART:20201101T060000
END:STANDARD
BEGIN:DAYLIGHT
TZOFFSETFROM:-0500
TZOFFSETTO:-0400
TZNAME:EDT
DTSTART:20210314T070000
END:DAYLIGHT
BEGIN:STANDARD
TZOFFSETFROM:-0400
TZOFFSETTO:-0500
TZNAME:EST
DTSTART:20211107T060000
END:STANDARD
BEGIN:DAYLIGHT
TZOFFSETFROM:-0500
TZOFFSETTO:-0400
TZNAME:EDT
DTSTART:20220313T070000
END:DAYLIGHT
BEGIN:STANDARD
TZOFFSETFROM:-0400
TZOFFSETTO:-0500
TZNAME:EST
DTSTART:20221106T060000
END:STANDARD
END:VTIMEZONE
BEGIN:VEVENT
DTSTART;TZID=America/New_York:20170723T150000
DTEND;TZID=America/New_York:20170723T180000
DTSTAMP:20260423T202150
CREATED:20170705T202234Z
LAST-MODIFIED:20170705T202234Z
UID:10001252-1500822000-1500832800@www.lifechurchal.com
SUMMARY:Birmingham Barons Game
DESCRIPTION:Mark your calendar for July 23rd @ 3 pm. We’re going to a Birmingham Barons games. Tickets are $10.00 per person and include a hot dog\, chips and drink. We will be sitting on the lawn\, so bring blankets (no chairs). Kids will be able to run around and play too! We would love for you to join us for this exciting event! The deadline to sign up is July 12. You can sign up at the welcome center or call us to reserve your ticket.
URL:https://www.lifechurchal.com/event/birmingham-barons-game/
LOCATION:Regions Feild\, 1st Avenue S.\, Birmingham\, AL\, 35233
CATEGORIES:Family,Kids
GEO:33.514914;-86.7974623
X-APPLE-STRUCTURED-LOCATION;VALUE=URI;X-ADDRESS=Regions Feild 1st Avenue S. Birmingham AL 35233;X-APPLE-RADIUS=500;X-TITLE=1st Avenue S.:geo:-86.7974623,33.514914
END:VEVENT
BEGIN:VEVENT
DTSTART;TZID=America/New_York:20170730T100000
DTEND;TZID=America/New_York:20170730T120000
DTSTAMP:20260423T202150
CREATED:20170710T184356Z
LAST-MODIFIED:20170710T184356Z
UID:10001253-1501408800-1501416000@www.lifechurchal.com
SUMMARY:Together Service
DESCRIPTION:
URL:https://www.lifechurchal.com/event/together-service/
LOCATION:LifeChurch Birmingham\, 5567 Chalkville Rd.\, Birmingham\, AL\, 35235\, United States
ATTACH;FMTTYPE=image/jpeg:https://www.lifechurchal.com/wp-content/uploads/2017/04/Together-scaled.jpg
GEO:33.6523979;-86.6381384
X-APPLE-STRUCTURED-LOCATION;VALUE=URI;X-ADDRESS=LifeChurch Birmingham 5567 Chalkville Rd. Birmingham AL 35235 United States;X-APPLE-RADIUS=500;X-TITLE=5567 Chalkville Rd.:geo:-86.6381384,33.6523979
END:VEVENT
BEGIN:VEVENT
DTSTART;TZID=America/New_York:20170820T100000
DTEND;TZID=America/New_York:20170820T120000
DTSTAMP:20260423T202150
CREATED:20170815T143029Z
LAST-MODIFIED:20170815T143029Z
UID:10001247-1503223200-1503230400@www.lifechurchal.com
SUMMARY:I Love My Church
DESCRIPTION:I Love My Church\nYou’re Invited!! Christ commanded His followers to “love one another.” What does that look like in today’s world? Join us for a new sermon series beginning Sunday\, August 20\, 2017 @ 10 am here at LifeChurch Birmingham. In the I Love My Church series\, we’ll talk about:\nLoving Our Community\nLove by Serving Others\nLove by Giving to Those in Need\nLove by Sharing\nInvite a friend to come to church. We’d love to share Christ’s love with them and invite them to become a part of God’s family!
URL:https://www.lifechurchal.com/event/i-love-my-church/2017-08-20/
LOCATION:LifeChurch Birmingham\, 5567 Chalkville Rd.\, Birmingham\, AL\, 35235\, United States
GEO:33.6523979;-86.6381384
X-APPLE-STRUCTURED-LOCATION;VALUE=URI;X-ADDRESS=LifeChurch Birmingham 5567 Chalkville Rd. Birmingham AL 35235 United States;X-APPLE-RADIUS=500;X-TITLE=5567 Chalkville Rd.:geo:-86.6381384,33.6523979
END:VEVENT
BEGIN:VEVENT
DTSTART;TZID=America/New_York:20180401T100000
DTEND;TZID=America/New_York:20180401T120000
DTSTAMP:20260423T202150
CREATED:20180320T190719Z
LAST-MODIFIED:20180320T190719Z
UID:10001248-1522576800-1522584000@www.lifechurchal.com
SUMMARY:Easter Perspective
DESCRIPTION:Join us for Easter this year as we discover the Easter Perspective.  This will change the way we do and view everything.  There is a place for everyone!
URL:https://www.lifechurchal.com/event/easter-perspective/
LOCATION:LifeChurch Birmingham\, 5567 Chalkville Rd.\, Birmingham\, AL\, 35235\, United States
GEO:33.6523979;-86.6381384
X-APPLE-STRUCTURED-LOCATION;VALUE=URI;X-ADDRESS=LifeChurch Birmingham 5567 Chalkville Rd. Birmingham AL 35235 United States;X-APPLE-RADIUS=500;X-TITLE=5567 Chalkville Rd.:geo:-86.6381384,33.6523979
END:VEVENT
BEGIN:VEVENT
DTSTART;TZID=America/New_York:20181031T170000
DTEND;TZID=America/New_York:20181031T200000
DTSTAMP:20260423T202150
CREATED:20181019T134624Z
LAST-MODIFIED:20181019T134624Z
UID:10001249-1541005200-1541016000@www.lifechurchal.com
SUMMARY:Fall Fun Fest
DESCRIPTION:Fall Fun Fest\n\nJoin us at our Fall Fun Fest for an exciting time with friends and family! We will have inflatables\, food\, fun\, and lots of CANDY! You don’t want to miss this incredible event.
URL:https://www.lifechurchal.com/event/fall-fun-fest/
LOCATION:LifeChurch Birmingham\, 5567 Chalkville Rd.\, Birmingham\, AL\, 35235\, United States
GEO:33.6523979;-86.6381384
X-APPLE-STRUCTURED-LOCATION;VALUE=URI;X-ADDRESS=LifeChurch Birmingham 5567 Chalkville Rd. Birmingham AL 35235 United States;X-APPLE-RADIUS=500;X-TITLE=5567 Chalkville Rd.:geo:-86.6381384,33.6523979
END:VEVENT
BEGIN:VEVENT
DTSTART;TZID=America/New_York:20181216T100000
DTEND;TZID=America/New_York:20181216T130000
DTSTAMP:20260423T202150
CREATED:20181204T150047Z
LAST-MODIFIED:20181204T180319Z
UID:10000158-1544954400-1544965200@www.lifechurchal.com
SUMMARY:Christmas Wonder
DESCRIPTION:Join us as Celebrate the Wonder of Christmas. We will have two Christmas services that you can be a part of. On December 16th\, we will have our special Christmas service that will include elements of music and arts. During this service\, there will be exciting children’s activities going on in our Family Life Center building. On December 23rd\, we will have a family Christmas service. Children will be invited to join us for this service as we embrace the joy of the season. We hope all of you will come celebrate the birth of Jesus with us!
URL:https://www.lifechurchal.com/event/christmas-wonder/2018-12-16/
LOCATION:LifeChurch Birmingham\, 5567 Chalkville Rd.\, Birmingham\, AL\, 35235\, United States
GEO:33.6523979;-86.6381384
X-APPLE-STRUCTURED-LOCATION;VALUE=URI;X-ADDRESS=LifeChurch Birmingham 5567 Chalkville Rd. Birmingham AL 35235 United States;X-APPLE-RADIUS=500;X-TITLE=5567 Chalkville Rd.:geo:-86.6381384,33.6523979
END:VEVENT
BEGIN:VEVENT
DTSTART;TZID=America/New_York:20190215T190000
DTEND;TZID=America/New_York:20190215T200000
DTSTAMP:20260423T202150
CREATED:20190209T172427Z
LAST-MODIFIED:20190209T172445Z
UID:10000159-1550257200-1550260800@www.lifechurchal.com
SUMMARY:Right to Invite: Empowerment Service
DESCRIPTION:Join us for an Empowerment Service with Guest Evangelist\, Johnny Jernigan!
URL:https://www.lifechurchal.com/event/right-to-invite/
LOCATION:AL
END:VEVENT
BEGIN:VEVENT
DTSTART;TZID=America/New_York:20190216T093000
DTEND;TZID=America/New_York:20190216T120000
DTSTAMP:20260423T202150
CREATED:20190209T172657Z
LAST-MODIFIED:20190209T172657Z
UID:10000156-1550309400-1550318400@www.lifechurchal.com
SUMMARY:Right to Invite: Community Outreach
DESCRIPTION:Come be a part of reaching our community and sharing Jesus with those who are lost!
URL:https://www.lifechurchal.com/event/right-to-invite-community-outreach/
LOCATION:AL
END:VEVENT
BEGIN:VEVENT
DTSTART;TZID=America/New_York:20190217T180000
DTEND;TZID=America/New_York:20190217T190000
DTSTAMP:20260423T202150
CREATED:20190209T172853Z
LAST-MODIFIED:20190209T172853Z
UID:10000157-1550426400-1550430000@www.lifechurchal.com
SUMMARY:Unfinished: Unmasking the Message of the Cross
DESCRIPTION:Join us for a powerful drama called “Unfinished”.  It’s going to be amazing.  You don’t want to miss it.
URL:https://www.lifechurchal.com/event/unfinished-unmasking-the-message-of-the-cross/
LOCATION:AL
END:VEVENT
BEGIN:VEVENT
DTSTART;TZID=America/New_York:20190420T100000
DTEND;TZID=America/New_York:20190420T120000
DTSTAMP:20260423T202150
CREATED:20190409T175919Z
LAST-MODIFIED:20190409T175919Z
UID:10000002-1555754400-1555761600@www.lifechurchal.com
SUMMARY:Community Wide Egg Hunt
DESCRIPTION:LifeChurch Birmingham is hosting a community wide egg hunt at the Trussville Mall for kids toddler-6th grade. There will be Easter basket giveaways\, silver money eggs\, grilled hot dogs\, prize filled eggs and more. You’re invited to join us for this family event!
URL:https://www.lifechurchal.com/event/community-wide-egg-hunt/
LOCATION:LifeChurch Birmingham\, 5567 Chalkville Rd.\, Birmingham\, AL\, 35235\, United States
CATEGORIES:Family,Kids
GEO:33.6523979;-86.6381384
X-APPLE-STRUCTURED-LOCATION;VALUE=URI;X-ADDRESS=LifeChurch Birmingham 5567 Chalkville Rd. Birmingham AL 35235 United States;X-APPLE-RADIUS=500;X-TITLE=5567 Chalkville Rd.:geo:-86.6381384,33.6523979
END:VEVENT
BEGIN:VEVENT
DTSTART;TZID=America/New_York:20190421T100000
DTEND;TZID=America/New_York:20190421T120000
DTSTAMP:20260423T202150
CREATED:20190409T143153Z
LAST-MODIFIED:20190409T143153Z
UID:10000001-1555840800-1555848000@www.lifechurchal.com
SUMMARY:Easter at LifeChurch Birmingham
DESCRIPTION:Come join us for our Easter service as we celebrate the Risen King!  There is a place for everyone.  Our kids will be having a special glow service with black lights and more on that day.  The adults will have exciting music\, special elements\, and a powerful message.  You don’t want to miss it!
URL:https://www.lifechurchal.com/event/easter-at-lifechurch-birmingham/
LOCATION:LifeChurch Birmingham\, 5567 Chalkville Rd.\, Birmingham\, AL\, 35235\, United States
GEO:33.6523979;-86.6381384
X-APPLE-STRUCTURED-LOCATION;VALUE=URI;X-ADDRESS=LifeChurch Birmingham 5567 Chalkville Rd. Birmingham AL 35235 United States;X-APPLE-RADIUS=500;X-TITLE=5567 Chalkville Rd.:geo:-86.6381384,33.6523979
END:VEVENT
BEGIN:VEVENT
DTSTART;TZID=America/New_York:20190809T180000
DTEND;TZID=America/New_York:20190809T200000
DTSTAMP:20260423T202150
CREATED:20190722T195247Z
LAST-MODIFIED:20190722T195247Z
UID:10000003-1565373600-1565380800@www.lifechurchal.com
SUMMARY:Power Up Family Experience
DESCRIPTION:Come join us for an exciting time for the entire family! We will have games\, puppets\, human videos\, worship\, and fun events for the whole family to enjoy.  Parents\, this is for you too!  Bring your kids and stay with them! Our guest speaker for these evenings will be Patricia Holland.  You don’t want to miss it!
URL:https://www.lifechurchal.com/event/power-up-family-experience/2019-08-09/
LOCATION:LifeChurch Birmingham\, 5567 Chalkville Rd.\, Birmingham\, AL\, 35235\, United States
GEO:33.6523979;-86.6381384
X-APPLE-STRUCTURED-LOCATION;VALUE=URI;X-ADDRESS=LifeChurch Birmingham 5567 Chalkville Rd. Birmingham AL 35235 United States;X-APPLE-RADIUS=500;X-TITLE=5567 Chalkville Rd.:geo:-86.6381384,33.6523979
END:VEVENT
BEGIN:VEVENT
DTSTART;TZID=America/New_York:20190811T100000
DTEND;TZID=America/New_York:20190811T120000
DTSTAMP:20260423T202150
CREATED:20190722T195406Z
LAST-MODIFIED:20190722T195406Z
UID:10000004-1565517600-1565524800@www.lifechurchal.com
SUMMARY:Power Up Family Experience
DESCRIPTION:Come join us for an exciting time for the entire family! We will have games\, puppets\, human videos\, worship\, and fun events for the whole family to enjoy.  Parents\, this is for you too!  Bring your kids and stay with them! Our guest speaker for these evenings will be Patricia Holland.  You don’t want to miss it!
URL:https://www.lifechurchal.com/event/power-up-family-experience-2/
LOCATION:LifeChurch Birmingham\, 5567 Chalkville Rd.\, Birmingham\, AL\, 35235\, United States
GEO:33.6523979;-86.6381384
X-APPLE-STRUCTURED-LOCATION;VALUE=URI;X-ADDRESS=LifeChurch Birmingham 5567 Chalkville Rd. Birmingham AL 35235 United States;X-APPLE-RADIUS=500;X-TITLE=5567 Chalkville Rd.:geo:-86.6381384,33.6523979
END:VEVENT
BEGIN:VEVENT
DTSTART;TZID=America/New_York:20191031T180000
DTEND;TZID=America/New_York:20191031T203000
DTSTAMP:20260423T202150
CREATED:20191008T161130Z
LAST-MODIFIED:20191008T161130Z
UID:10000005-1572544800-1572553800@www.lifechurchal.com
SUMMARY:Fall Festival
DESCRIPTION:
URL:https://www.lifechurchal.com/event/fall-festival/
LOCATION:LifeChurch Birmingham\, 5567 Chalkville Rd.\, Birmingham\, AL\, 35235\, United States
GEO:33.6523979;-86.6381384
X-APPLE-STRUCTURED-LOCATION;VALUE=URI;X-ADDRESS=LifeChurch Birmingham 5567 Chalkville Rd. Birmingham AL 35235 United States;X-APPLE-RADIUS=500;X-TITLE=5567 Chalkville Rd.:geo:-86.6381384,33.6523979
END:VEVENT
BEGIN:VEVENT
DTSTART;TZID=America/New_York:20200721T090000
DTEND;TZID=America/New_York:20200721T100000
DTSTAMP:20260423T202150
CREATED:20150518T155608Z
LAST-MODIFIED:20200813T181048Z
UID:10001229-1595322000-1595325600@www.lifechurchal.com
SUMMARY:LifeTrack 301
DESCRIPTION:We want to help you realize what makes you unique. The 301 class will help you discover your personality\, gifts\, and purpose in the life and see how God combines them for the best fit in ministry. This class meets the third Sunday of each month after the AM service.
URL:https://www.lifechurchal.com/event/lifetrack-301/2020-07-21/
LOCATION:LifeChurch Birmingham\, 5567 Chalkville Rd.\, Birmingham\, AL\, 35235\, United States
CATEGORIES:LifeTrack
ATTACH;FMTTYPE=image/jpeg:https://www.lifechurchal.com/wp-content/uploads/lifetrack-301.jpg
GEO:33.6523979;-86.6381384
X-APPLE-STRUCTURED-LOCATION;VALUE=URI;X-ADDRESS=LifeChurch Birmingham 5567 Chalkville Rd. Birmingham AL 35235 United States;X-APPLE-RADIUS=500;X-TITLE=5567 Chalkville Rd.:geo:-86.6381384,33.6523979
END:VEVENT
BEGIN:VEVENT
DTSTART;TZID=America/New_York:20201004T080000
DTEND;TZID=America/New_York:20201004T110000
DTSTAMP:20260423T202150
CREATED:20200916T193307Z
LAST-MODIFIED:20200916T193307Z
UID:10001424-1601798400-1601809200@www.lifechurchal.com
SUMMARY:Kids Ministry Relaunch (Phase 1)
DESCRIPTION:We are so exited to announce our Kids ministry relaunch.  Phase 1 of reopening will be our Sunday morning worship experience for kids ages 6-12 years old during our 11 am service.  We will have special guest DPB and other exciting kids ministry element that your kids will not want to miss.
URL:https://www.lifechurchal.com/event/kids-ministry-relaunch-phase-1/
LOCATION:LifeChurch Birmingham\, 5567 Chalkville Rd.\, Birmingham\, AL\, 35235\, United States
GEO:33.6523979;-86.6381384
X-APPLE-STRUCTURED-LOCATION;VALUE=URI;X-ADDRESS=LifeChurch Birmingham 5567 Chalkville Rd. Birmingham AL 35235 United States;X-APPLE-RADIUS=500;X-TITLE=5567 Chalkville Rd.:geo:-86.6381384,33.6523979
END:VEVENT
BEGIN:VEVENT
DTSTART;TZID=America/New_York:20201009T183000
DTEND;TZID=America/New_York:20201009T200000
DTSTAMP:20260423T202150
CREATED:20200917T155321Z
LAST-MODIFIED:20200917T155321Z
UID:10001446-1602268200-1602273600@www.lifechurchal.com
SUMMARY:Engage Virtual Women's Conference
DESCRIPTION:You don’t want to miss this Women’s Conference ladies!  We will have live worship\, door prizes\, fun games and we will log on virtually to hear special guest speaker Beth Stevens. Cost is $8.
URL:https://www.lifechurchal.com/event/engage-virtual-womens-conference/
LOCATION:LifeChurch Birmingham\, 5567 Chalkville Rd.\, Birmingham\, AL\, 35235\, United States
GEO:33.6523979;-86.6381384
X-APPLE-STRUCTURED-LOCATION;VALUE=URI;X-ADDRESS=LifeChurch Birmingham 5567 Chalkville Rd. Birmingham AL 35235 United States;X-APPLE-RADIUS=500;X-TITLE=5567 Chalkville Rd.:geo:-86.6381384,33.6523979
END:VEVENT
BEGIN:VEVENT
DTSTART;VALUE=DATE:20201010
DTEND;VALUE=DATE:20201011
DTSTAMP:20260423T202150
CREATED:20200916T194621Z
LAST-MODIFIED:20200917T153643Z
UID:10001445-1602288000-1602374399@www.lifechurchal.com
SUMMARY:21 Days of Prayer and Fasting
DESCRIPTION:21 days of prayer and fasting is an amazing time to relaunch your commitment to God through devotions\, prayer\, scripture reading\, and even fasting.  Join us on this journey for the next 21!
URL:https://www.lifechurchal.com/event/21-days-of-prayer-and-fasting/2020-10-10/
LOCATION:LifeChurch Birmingham\, 5567 Chalkville Rd.\, Birmingham\, AL\, 35235\, United States
GEO:33.6523979;-86.6381384
X-APPLE-STRUCTURED-LOCATION;VALUE=URI;X-ADDRESS=LifeChurch Birmingham 5567 Chalkville Rd. Birmingham AL 35235 United States;X-APPLE-RADIUS=500;X-TITLE=5567 Chalkville Rd.:geo:-86.6381384,33.6523979
END:VEVENT
BEGIN:VEVENT
DTSTART;TZID=America/New_York:20201016T183000
DTEND;TZID=America/New_York:20201016T200000
DTSTAMP:20260423T202150
CREATED:20200917T155748Z
LAST-MODIFIED:20200917T155748Z
UID:10001447-1602873000-1602878400@www.lifechurchal.com
SUMMARY:360MAN Conference 2020
DESCRIPTION:Calling all LifeChurch Men.  This is an event that you are not going to want to miss.  It’s free to all attendees\, but if you want to get a food box from Full Moon\, the cost of that is $15.  Special guest speaker will be Rick Dubose.
URL:https://www.lifechurchal.com/event/360man-conference-2020/
LOCATION:LifeChurch Birmingham\, 5567 Chalkville Rd.\, Birmingham\, AL\, 35235\, United States
GEO:33.6523979;-86.6381384
X-APPLE-STRUCTURED-LOCATION;VALUE=URI;X-ADDRESS=LifeChurch Birmingham 5567 Chalkville Rd. Birmingham AL 35235 United States;X-APPLE-RADIUS=500;X-TITLE=5567 Chalkville Rd.:geo:-86.6381384,33.6523979
END:VEVENT
BEGIN:VEVENT
DTSTART;TZID=America/New_York:20201220T090000
DTEND;TZID=America/New_York:20201220T100000
DTSTAMP:20260423T202150
CREATED:20201215T220744Z
LAST-MODIFIED:20201215T221548Z
UID:10001481-1608454800-1608458400@www.lifechurchal.com
SUMMARY:Christmas Family Service
DESCRIPTION:
URL:https://www.lifechurchal.com/event/christmas-family-service/
LOCATION:LifeChurch Birmingham\, 5567 Chalkville Rd.\, Birmingham\, AL\, 35235\, United States
GEO:33.6523979;-86.6381384
X-APPLE-STRUCTURED-LOCATION;VALUE=URI;X-ADDRESS=LifeChurch Birmingham 5567 Chalkville Rd. Birmingham AL 35235 United States;X-APPLE-RADIUS=500;X-TITLE=5567 Chalkville Rd.:geo:-86.6381384,33.6523979
END:VEVENT
BEGIN:VEVENT
DTSTART;TZID=America/New_York:20201220T110000
DTEND;TZID=America/New_York:20201220T120000
DTSTAMP:20260423T202150
CREATED:20201215T221141Z
LAST-MODIFIED:20201215T221912Z
UID:10001482-1608462000-1608465600@www.lifechurchal.com
SUMMARY:Christmas Family Service
DESCRIPTION:
URL:https://www.lifechurchal.com/event/christmas-family-service-2/
LOCATION:LifeChurch Birmingham\, 5567 Chalkville Rd.\, Birmingham\, AL\, 35235\, United States
CATEGORIES:Family
GEO:33.6523979;-86.6381384
X-APPLE-STRUCTURED-LOCATION;VALUE=URI;X-ADDRESS=LifeChurch Birmingham 5567 Chalkville Rd. Birmingham AL 35235 United States;X-APPLE-RADIUS=500;X-TITLE=5567 Chalkville Rd.:geo:-86.6381384,33.6523979
END:VEVENT
BEGIN:VEVENT
DTSTART;TZID=America/New_York:20210131T150000
DTEND;TZID=America/New_York:20210131T170000
DTSTAMP:20260423T202150
CREATED:20210125T201119Z
LAST-MODIFIED:20210125T201119Z
UID:10000290-1612105200-1612112400@www.lifechurchal.com
SUMMARY:Community Food Give
DESCRIPTION:
URL:https://www.lifechurchal.com/event/community-food-give/
LOCATION:LifeChurch Birmingham\, 5567 Chalkville Rd.\, Birmingham\, AL\, 35235\, United States
GEO:33.6523979;-86.6381384
X-APPLE-STRUCTURED-LOCATION;VALUE=URI;X-ADDRESS=LifeChurch Birmingham 5567 Chalkville Rd. Birmingham AL 35235 United States;X-APPLE-RADIUS=500;X-TITLE=5567 Chalkville Rd.:geo:-86.6381384,33.6523979
END:VEVENT
BEGIN:VEVENT
DTSTART;TZID=America/New_York:20210221T090000
DTEND;TZID=America/New_York:20210221T100000
DTSTAMP:20260423T202150
CREATED:20210205T170930Z
LAST-MODIFIED:20210511T181016Z
UID:10000291-1613898000-1613901600@www.lifechurchal.com
SUMMARY:LifeTrack 301
DESCRIPTION:In LifeTrack 301 you will attend an orientation or training session in the ministry that best suits your skill sets and learn how to get involved. This training takes place on the third Sunday of every month at 9 am.  The LifeTrack process is complete when you join the church and start a ministry team.
URL:https://www.lifechurchal.com/event/lifetrack-301-3/
LOCATION:LifeChurch Birmingham\, 5567 Chalkville Rd.\, Birmingham\, AL\, 35235\, United States
CATEGORIES:LifeTrack
ATTACH;FMTTYPE=image/jpeg:https://www.lifechurchal.com/wp-content/uploads/LC-LifeTrack-301.jpg
GEO:33.6523979;-86.6381384
X-APPLE-STRUCTURED-LOCATION;VALUE=URI;X-ADDRESS=LifeChurch Birmingham 5567 Chalkville Rd. Birmingham AL 35235 United States;X-APPLE-RADIUS=500;X-TITLE=5567 Chalkville Rd.:geo:-86.6381384,33.6523979
END:VEVENT
BEGIN:VEVENT
DTSTART;TZID=America/New_York:20210404T090000
DTEND;TZID=America/New_York:20210404T103000
DTSTAMP:20260423T202150
CREATED:20210324T180052Z
LAST-MODIFIED:20210324T183059Z
UID:10000322-1617526800-1617532200@www.lifechurchal.com
SUMMARY:Easter
DESCRIPTION:Join us Sunday\, April 4th for two exciting services @ 9am(no children’s service) and 11 am (children’s service available). There will be a special GLOW service for kids with Easter prizes and giveaways. It’s going to be an awesome time for the whole family that you won’t want to miss!
URL:https://www.lifechurchal.com/event/easter-2/
LOCATION:LifeChurch Birmingham\, 5567 Chalkville Rd.\, Birmingham\, AL\, 35235\, United States
CATEGORIES:Worship Experience
GEO:33.6523979;-86.6381384
X-APPLE-STRUCTURED-LOCATION;VALUE=URI;X-ADDRESS=LifeChurch Birmingham 5567 Chalkville Rd. Birmingham AL 35235 United States;X-APPLE-RADIUS=500;X-TITLE=5567 Chalkville Rd.:geo:-86.6381384,33.6523979
END:VEVENT
BEGIN:VEVENT
DTSTART;TZID=America/New_York:20210404T110000
DTEND;TZID=America/New_York:20210404T123000
DTSTAMP:20260423T202150
CREATED:20210324T180427Z
LAST-MODIFIED:20210324T183558Z
UID:10000323-1617534000-1617539400@www.lifechurchal.com
SUMMARY:Easter
DESCRIPTION:Join us Sunday\, April 4th for two exciting services @ 9am (no children’s service) and 11 am (children’s service available). There will be a special GLOW service for kids with Easter prizes and giveaways. It’s going to be an awesome time for the whole family that you won’t want to miss!
URL:https://www.lifechurchal.com/event/easter-3/
LOCATION:LifeChurch Birmingham\, 5567 Chalkville Rd.\, Birmingham\, AL\, 35235\, United States
CATEGORIES:Worship Experience
GEO:33.6523979;-86.6381384
X-APPLE-STRUCTURED-LOCATION;VALUE=URI;X-ADDRESS=LifeChurch Birmingham 5567 Chalkville Rd. Birmingham AL 35235 United States;X-APPLE-RADIUS=500;X-TITLE=5567 Chalkville Rd.:geo:-86.6381384,33.6523979
END:VEVENT
BEGIN:VEVENT
DTSTART;TZID=America/New_York:20210530T150000
DTEND;TZID=America/New_York:20210530T180000
DTSTAMP:20260423T202150
CREATED:20210524T170335Z
LAST-MODIFIED:20210524T190149Z
UID:10000495-1622386800-1622397600@www.lifechurchal.com
SUMMARY:Church Picnic
DESCRIPTION:You’re invited to our Church-wide picnic at the Trussville Park behind the Trussville Library.  The event starts at 3 pm and we will have food\, fun\, and fellowship.  It’s going to be an exciting time for the whole family.  We will provide hamburgers\, hot dogs\, chips\, and drinks.  The cost per person is $7 or $35 for a family.  You don’t want to miss this!
URL:https://www.lifechurchal.com/event/church-picnic/
LOCATION:Trussville Park\, 50 Park Place\, Trussville\, AL\, 35173\, United States
ATTACH;FMTTYPE=image/jpeg:https://www.lifechurchal.com/wp-content/uploads/2021/05/church_picnic-title-2-Standard-4x3-1.jpg
END:VEVENT
BEGIN:VEVENT
DTSTART;TZID=America/New_York:20210718T100000
DTEND;TZID=America/New_York:20210718T120000
DTSTAMP:20260423T202150
CREATED:20210714T210353Z
LAST-MODIFIED:20210714T210459Z
UID:10001544-1626602400-1626609600@www.lifechurchal.com
SUMMARY:Kidsplosion Service
DESCRIPTION:We have our Kidsplosion this Sunday\, July 18th.  This is going to be an exciting time for our kids in the Family Life Center Building.  Sunday morning from 10 am-12 pm our kids will have an exciting Kidsplosion service with lots of fun games\, puppets\, and more!  Then\, bring your kids back Sunday afternoon for THREE parties just for kids.  At 4:30 pm\, we will have an inflatable party.  At 5:30 pm\, we will have a pizza party and at 6:30 pm\, we will have an ultimate Kidsplosion party!  This event is for elementary aged kids.  You don’t want to miss it!
URL:https://www.lifechurchal.com/event/kidsplosion-service/
LOCATION:LifeChurch Birmingham\, 5567 Chalkville Rd.\, Birmingham\, AL\, 35235\, United States
CATEGORIES:Kids
GEO:33.6523979;-86.6381384
X-APPLE-STRUCTURED-LOCATION;VALUE=URI;X-ADDRESS=LifeChurch Birmingham 5567 Chalkville Rd. Birmingham AL 35235 United States;X-APPLE-RADIUS=500;X-TITLE=5567 Chalkville Rd.:geo:-86.6381384,33.6523979
END:VEVENT
BEGIN:VEVENT
DTSTART;TZID=America/New_York:20210718T163000
DTEND;TZID=America/New_York:20210718T173000
DTSTAMP:20260423T202150
CREATED:20210714T210654Z
LAST-MODIFIED:20210714T210654Z
UID:10001545-1626625800-1626629400@www.lifechurchal.com
SUMMARY:Kidsplosion Inflatable Party
DESCRIPTION:We have our Kidsplosion Sunday\, July 18th.  This is going to be an exciting time for our kids in the Family Life Center Building.  Sunday morning from 10 am-12 pm our kids will have an exciting Kidsplosion service with lots of fun games\, puppets\, and more!  Then\, bring your kids back Sunday afternoon for THREE parties just for kids.  At 4:30 pm\, we will have an inflatable party.  At 5:30 pm\, we will have a pizza party and at 6:30 pm\, we will have an ultimate Kidsplosion party!  This event is for elementary aged kids.  You don’t want to miss it!
URL:https://www.lifechurchal.com/event/kidsplosion-inflatable-party/
LOCATION:LifeChurch Birmingham\, 5567 Chalkville Rd.\, Birmingham\, AL\, 35235\, United States
CATEGORIES:Kids
GEO:33.6523979;-86.6381384
X-APPLE-STRUCTURED-LOCATION;VALUE=URI;X-ADDRESS=LifeChurch Birmingham 5567 Chalkville Rd. Birmingham AL 35235 United States;X-APPLE-RADIUS=500;X-TITLE=5567 Chalkville Rd.:geo:-86.6381384,33.6523979
END:VEVENT
BEGIN:VEVENT
DTSTART;TZID=America/New_York:20210718T173000
DTEND;TZID=America/New_York:20210718T183000
DTSTAMP:20260423T202150
CREATED:20210714T210923Z
LAST-MODIFIED:20210714T210923Z
UID:10001546-1626629400-1626633000@www.lifechurchal.com
SUMMARY:Kidsplosion Pizza Party
DESCRIPTION:We have our Kidsplosion Sunday\, July 18th.  This is going to be an exciting time for our kids in the Family Life Center Building.  Sunday morning from 10 am-12 pm our kids will have an exciting Kidsplosion service with lots of fun games\, puppets\, and more!  Then\, bring your kids back Sunday afternoon for THREE parties just for kids.  At 4:30 pm\, we will have an inflatable party.  At 5:30 pm\, we will have a pizza party and at 6:30 pm\, we will have an ultimate Kidsplosion party!  This event is for elementary aged kids.  You don’t want to miss it!
URL:https://www.lifechurchal.com/event/kidsplosion-pizza-party/
LOCATION:LifeChurch Birmingham\, 5567 Chalkville Rd.\, Birmingham\, AL\, 35235\, United States
CATEGORIES:Kids
GEO:33.6523979;-86.6381384
X-APPLE-STRUCTURED-LOCATION;VALUE=URI;X-ADDRESS=LifeChurch Birmingham 5567 Chalkville Rd. Birmingham AL 35235 United States;X-APPLE-RADIUS=500;X-TITLE=5567 Chalkville Rd.:geo:-86.6381384,33.6523979
END:VEVENT
BEGIN:VEVENT
DTSTART;TZID=America/New_York:20210718T183000
DTEND;TZID=America/New_York:20210718T193000
DTSTAMP:20260423T202150
CREATED:20210714T211106Z
LAST-MODIFIED:20210714T211106Z
UID:10001547-1626633000-1626636600@www.lifechurchal.com
SUMMARY:Kidsplosion Party
DESCRIPTION:We have our Kidsplosion Sunday\, July 18th.  This is going to be an exciting time for our kids in the Family Life Center Building.  Sunday morning from 10 am-12 pm our kids will have an exciting Kidsplosion service with lots of fun games\, puppets\, and more!  Then\, bring your kids back Sunday afternoon for THREE parties just for kids.  At 4:30 pm\, we will have an inflatable party.  At 5:30 pm\, we will have a pizza party and at 6:30 pm\, we will have an ultimate Kidsplosion party!  This event is for elementary aged kids.  You don’t want to miss it!
URL:https://www.lifechurchal.com/event/kidsplosion-party/
LOCATION:LifeChurch Birmingham\, 5567 Chalkville Rd.\, Birmingham\, AL\, 35235\, United States
CATEGORIES:Kids
GEO:33.6523979;-86.6381384
X-APPLE-STRUCTURED-LOCATION;VALUE=URI;X-ADDRESS=LifeChurch Birmingham 5567 Chalkville Rd. Birmingham AL 35235 United States;X-APPLE-RADIUS=500;X-TITLE=5567 Chalkville Rd.:geo:-86.6381384,33.6523979
END:VEVENT
END:VCALENDAR