BEGIN:VCALENDAR
VERSION:2.0
PRODID:-//Life Church Birmingham - ECPv6.15.13//NONSGML v1.0//EN
CALSCALE:GREGORIAN
METHOD:PUBLISH
X-WR-CALNAME:Life Church Birmingham
X-ORIGINAL-URL:https://www.lifechurchal.com
X-WR-CALDESC:Events for Life Church Birmingham
REFRESH-INTERVAL;VALUE=DURATION:PT1H
X-Robots-Tag:noindex
X-PUBLISHED-TTL:PT1H
BEGIN:VTIMEZONE
TZID:America/New_York
BEGIN:DAYLIGHT
TZOFFSETFROM:-0500
TZOFFSETTO:-0400
TZNAME:EDT
DTSTART:20140309T070000
END:DAYLIGHT
BEGIN:STANDARD
TZOFFSETFROM:-0400
TZOFFSETTO:-0500
TZNAME:EST
DTSTART:20141102T060000
END:STANDARD
BEGIN:DAYLIGHT
TZOFFSETFROM:-0500
TZOFFSETTO:-0400
TZNAME:EDT
DTSTART:20150308T070000
END:DAYLIGHT
BEGIN:STANDARD
TZOFFSETFROM:-0400
TZOFFSETTO:-0500
TZNAME:EST
DTSTART:20151101T060000
END:STANDARD
BEGIN:DAYLIGHT
TZOFFSETFROM:-0500
TZOFFSETTO:-0400
TZNAME:EDT
DTSTART:20160313T070000
END:DAYLIGHT
BEGIN:STANDARD
TZOFFSETFROM:-0400
TZOFFSETTO:-0500
TZNAME:EST
DTSTART:20161106T060000
END:STANDARD
BEGIN:DAYLIGHT
TZOFFSETFROM:-0500
TZOFFSETTO:-0400
TZNAME:EDT
DTSTART:20170312T070000
END:DAYLIGHT
BEGIN:STANDARD
TZOFFSETFROM:-0400
TZOFFSETTO:-0500
TZNAME:EST
DTSTART:20171105T060000
END:STANDARD
BEGIN:DAYLIGHT
TZOFFSETFROM:-0500
TZOFFSETTO:-0400
TZNAME:EDT
DTSTART:20180311T070000
END:DAYLIGHT
BEGIN:STANDARD
TZOFFSETFROM:-0400
TZOFFSETTO:-0500
TZNAME:EST
DTSTART:20181104T060000
END:STANDARD
BEGIN:DAYLIGHT
TZOFFSETFROM:-0500
TZOFFSETTO:-0400
TZNAME:EDT
DTSTART:20190310T070000
END:DAYLIGHT
BEGIN:STANDARD
TZOFFSETFROM:-0400
TZOFFSETTO:-0500
TZNAME:EST
DTSTART:20191103T060000
END:STANDARD
BEGIN:DAYLIGHT
TZOFFSETFROM:-0500
TZOFFSETTO:-0400
TZNAME:EDT
DTSTART:20200308T070000
END:DAYLIGHT
BEGIN:STANDARD
TZOFFSETFROM:-0400
TZOFFSETTO:-0500
TZNAME:EST
DTSTART:20201101T060000
END:STANDARD
BEGIN:DAYLIGHT
TZOFFSETFROM:-0500
TZOFFSETTO:-0400
TZNAME:EDT
DTSTART:20210314T070000
END:DAYLIGHT
BEGIN:STANDARD
TZOFFSETFROM:-0400
TZOFFSETTO:-0500
TZNAME:EST
DTSTART:20211107T060000
END:STANDARD
BEGIN:DAYLIGHT
TZOFFSETFROM:-0500
TZOFFSETTO:-0400
TZNAME:EDT
DTSTART:20220313T070000
END:DAYLIGHT
BEGIN:STANDARD
TZOFFSETFROM:-0400
TZOFFSETTO:-0500
TZNAME:EST
DTSTART:20221106T060000
END:STANDARD
BEGIN:DAYLIGHT
TZOFFSETFROM:-0500
TZOFFSETTO:-0400
TZNAME:EDT
DTSTART:20230312T070000
END:DAYLIGHT
BEGIN:STANDARD
TZOFFSETFROM:-0400
TZOFFSETTO:-0500
TZNAME:EST
DTSTART:20231105T060000
END:STANDARD
BEGIN:DAYLIGHT
TZOFFSETFROM:-0500
TZOFFSETTO:-0400
TZNAME:EDT
DTSTART:20240310T070000
END:DAYLIGHT
BEGIN:STANDARD
TZOFFSETFROM:-0400
TZOFFSETTO:-0500
TZNAME:EST
DTSTART:20241103T060000
END:STANDARD
BEGIN:DAYLIGHT
TZOFFSETFROM:-0500
TZOFFSETTO:-0400
TZNAME:EDT
DTSTART:20250309T070000
END:DAYLIGHT
BEGIN:STANDARD
TZOFFSETFROM:-0400
TZOFFSETTO:-0500
TZNAME:EST
DTSTART:20251102T060000
END:STANDARD
BEGIN:DAYLIGHT
TZOFFSETFROM:-0500
TZOFFSETTO:-0400
TZNAME:EDT
DTSTART:20260308T070000
END:DAYLIGHT
BEGIN:STANDARD
TZOFFSETFROM:-0400
TZOFFSETTO:-0500
TZNAME:EST
DTSTART:20261101T060000
END:STANDARD
BEGIN:DAYLIGHT
TZOFFSETFROM:-0500
TZOFFSETTO:-0400
TZNAME:EDT
DTSTART:20270314T070000
END:DAYLIGHT
BEGIN:STANDARD
TZOFFSETFROM:-0400
TZOFFSETTO:-0500
TZNAME:EST
DTSTART:20271107T060000
END:STANDARD
END:VTIMEZONE
BEGIN:VEVENT
DTSTART;TZID=America/New_York:20150805T190000
DTEND;TZID=America/New_York:20150805T201500
DTSTAMP:20260423T164535
CREATED:20150724T154415Z
LAST-MODIFIED:20150724T160748Z
UID:10001237-1438801200-1438805700@www.lifechurchal.com
SUMMARY:Prayer Night
DESCRIPTION:We believe in the power of prayer.  Come join us for a powerful night of prayer and worship as we seek God and experience an encounter with Him.
URL:https://www.lifechurchal.com/event/prayer-night/2015-08-05/
LOCATION:LifeChurch Birmingham\, 5567 Chalkville Rd.\, Birmingham\, AL\, 35235\, United States
CATEGORIES:Adults,Worship Experience
ATTACH;FMTTYPE=image/jpeg:https://www.lifechurchal.com/wp-content/uploads/2015/07/does-prayer-really-change-things_wide_t_nt.jpg
GEO:33.6523979;-86.6381384
X-APPLE-STRUCTURED-LOCATION;VALUE=URI;X-ADDRESS=LifeChurch Birmingham 5567 Chalkville Rd. Birmingham AL 35235 United States;X-APPLE-RADIUS=500;X-TITLE=5567 Chalkville Rd.:geo:-86.6381384,33.6523979
END:VEVENT
BEGIN:VEVENT
DTSTART;TZID=America/New_York:20210404T090000
DTEND;TZID=America/New_York:20210404T103000
DTSTAMP:20260423T164535
CREATED:20210324T180052Z
LAST-MODIFIED:20210324T183059Z
UID:10000322-1617526800-1617532200@www.lifechurchal.com
SUMMARY:Easter
DESCRIPTION:Join us Sunday\, April 4th for two exciting services @ 9am(no children’s service) and 11 am (children’s service available). There will be a special GLOW service for kids with Easter prizes and giveaways. It’s going to be an awesome time for the whole family that you won’t want to miss!
URL:https://www.lifechurchal.com/event/easter-2/
LOCATION:LifeChurch Birmingham\, 5567 Chalkville Rd.\, Birmingham\, AL\, 35235\, United States
CATEGORIES:Worship Experience
GEO:33.6523979;-86.6381384
X-APPLE-STRUCTURED-LOCATION;VALUE=URI;X-ADDRESS=LifeChurch Birmingham 5567 Chalkville Rd. Birmingham AL 35235 United States;X-APPLE-RADIUS=500;X-TITLE=5567 Chalkville Rd.:geo:-86.6381384,33.6523979
END:VEVENT
BEGIN:VEVENT
DTSTART;TZID=America/New_York:20210404T110000
DTEND;TZID=America/New_York:20210404T123000
DTSTAMP:20260423T164535
CREATED:20210324T180427Z
LAST-MODIFIED:20210324T183558Z
UID:10000323-1617534000-1617539400@www.lifechurchal.com
SUMMARY:Easter
DESCRIPTION:Join us Sunday\, April 4th for two exciting services @ 9am (no children’s service) and 11 am (children’s service available). There will be a special GLOW service for kids with Easter prizes and giveaways. It’s going to be an awesome time for the whole family that you won’t want to miss!
URL:https://www.lifechurchal.com/event/easter-3/
LOCATION:LifeChurch Birmingham\, 5567 Chalkville Rd.\, Birmingham\, AL\, 35235\, United States
CATEGORIES:Worship Experience
GEO:33.6523979;-86.6381384
X-APPLE-STRUCTURED-LOCATION;VALUE=URI;X-ADDRESS=LifeChurch Birmingham 5567 Chalkville Rd. Birmingham AL 35235 United States;X-APPLE-RADIUS=500;X-TITLE=5567 Chalkville Rd.:geo:-86.6381384,33.6523979
END:VEVENT
BEGIN:VEVENT
DTSTART;TZID=America/New_York:20221211T100000
DTEND;TZID=America/New_York:20221211T120000
DTSTAMP:20260423T164535
CREATED:20221206T170853Z
LAST-MODIFIED:20221206T174201Z
UID:10000586-1670752800-1670760000@www.lifechurchal.com
SUMMARY:Christmas at LifeChurch
DESCRIPTION:We are excited to have a special performance by our LifeChurch Kids Choir this Sunday to open the service.  Come join us as we celebrate the birth of Jesus!
URL:https://www.lifechurchal.com/event/christmas-at-lifechurch/
LOCATION:LifeChurch Birmingham\, 5567 Chalkville Rd.\, Birmingham\, AL\, 35235\, United States
CATEGORIES:Adults,Family,Kids,Worship Experience
GEO:33.6523979;-86.6381384
X-APPLE-STRUCTURED-LOCATION;VALUE=URI;X-ADDRESS=LifeChurch Birmingham 5567 Chalkville Rd. Birmingham AL 35235 United States;X-APPLE-RADIUS=500;X-TITLE=5567 Chalkville Rd.:geo:-86.6381384,33.6523979
END:VEVENT
BEGIN:VEVENT
DTSTART;TZID=America/New_York:20221225T100000
DTEND;TZID=America/New_York:20221225T110000
DTSTAMP:20260423T164535
CREATED:20221206T174016Z
LAST-MODIFIED:20221206T174040Z
UID:10000496-1671962400-1671966000@www.lifechurchal.com
SUMMARY:Family Christmas Service
DESCRIPTION:Come celebrate Christmas day with your church family!  We will have a special 1 hour Family Service to celebrate the birth of Jesus
URL:https://www.lifechurchal.com/event/family-christmas-service/
LOCATION:LifeChurch Birmingham\, 5567 Chalkville Rd.\, Birmingham\, AL\, 35235\, United States
CATEGORIES:Adults,Family,Kids,Worship Experience
GEO:33.6523979;-86.6381384
X-APPLE-STRUCTURED-LOCATION;VALUE=URI;X-ADDRESS=LifeChurch Birmingham 5567 Chalkville Rd. Birmingham AL 35235 United States;X-APPLE-RADIUS=500;X-TITLE=5567 Chalkville Rd.:geo:-86.6381384,33.6523979
END:VEVENT
BEGIN:VEVENT
DTSTART;TZID=America/New_York:20221225T170000
DTEND;TZID=America/New_York:20221225T180000
DTSTAMP:20260423T164535
CREATED:20221206T171937Z
LAST-MODIFIED:20221206T174111Z
UID:10000588-1671987600-1671991200@www.lifechurchal.com
SUMMARY:Christmas Eve Candlelight Service
DESCRIPTION:Join us for a special 1 hour Christmas Eve Candlelight Service.  We’ll sing Christmas carols by candlelight and enjoy celebrating the season with friends a family.
URL:https://www.lifechurchal.com/event/christmas-eve-candlelight-service/
LOCATION:LifeChurch Birmingham\, 5567 Chalkville Rd.\, Birmingham\, AL\, 35235\, United States
CATEGORIES:Adults,Family,Kids,Worship Experience
GEO:33.6523979;-86.6381384
X-APPLE-STRUCTURED-LOCATION;VALUE=URI;X-ADDRESS=LifeChurch Birmingham 5567 Chalkville Rd. Birmingham AL 35235 United States;X-APPLE-RADIUS=500;X-TITLE=5567 Chalkville Rd.:geo:-86.6381384,33.6523979
END:VEVENT
BEGIN:VEVENT
DTSTART;TZID=America/New_York:20230219T180000
DTEND;TZID=America/New_York:20230219T200000
DTSTAMP:20260423T164535
CREATED:20230216T150746Z
LAST-MODIFIED:20230216T150916Z
UID:10001660-1676829600-1676836800@www.lifechurchal.com
SUMMARY:Sunday Evening Empowerment Service
DESCRIPTION:Join us with Special Guest Mark Rutland for a night of empowerment!
URL:https://www.lifechurchal.com/event/sunday-evening-empowerment-service/
LOCATION:LifeChurch Birmingham\, 5567 Chalkville Rd.\, Birmingham\, AL\, 35235\, United States
CATEGORIES:Worship Experience
ATTACH;FMTTYPE=image/jpeg:https://www.lifechurchal.com/wp-content/uploads/2023/01/Language-Final-for-banner-scaled.jpg
GEO:33.6523979;-86.6381384
X-APPLE-STRUCTURED-LOCATION;VALUE=URI;X-ADDRESS=LifeChurch Birmingham 5567 Chalkville Rd. Birmingham AL 35235 United States;X-APPLE-RADIUS=500;X-TITLE=5567 Chalkville Rd.:geo:-86.6381384,33.6523979
END:VEVENT
BEGIN:VEVENT
DTSTART;TZID=America/New_York:20230402T100000
DTEND;TZID=America/New_York:20230402T113000
DTSTAMP:20260423T164535
CREATED:20230314T184406Z
LAST-MODIFIED:20230314T185156Z
UID:10001664-1680429600-1680435000@www.lifechurchal.com
SUMMARY:Palm Sunday
DESCRIPTION:Join us for two amazing services on Palm Sunday\, April 2 and Easter Sunday\, April 9 @ 10 am. Come worship with us and hear a powerful message\, exciting music\, and inspiring worship!
URL:https://www.lifechurchal.com/event/palm-sunday/
LOCATION:LifeChurch Birmingham\, 5567 Chalkville Rd.\, Birmingham\, AL\, 35235\, United States
CATEGORIES:Worship Experience
GEO:33.6523979;-86.6381384
X-APPLE-STRUCTURED-LOCATION;VALUE=URI;X-ADDRESS=LifeChurch Birmingham 5567 Chalkville Rd. Birmingham AL 35235 United States;X-APPLE-RADIUS=500;X-TITLE=5567 Chalkville Rd.:geo:-86.6381384,33.6523979
END:VEVENT
BEGIN:VEVENT
DTSTART;TZID=America/New_York:20230409T100000
DTEND;TZID=America/New_York:20230409T113000
DTSTAMP:20260423T164535
CREATED:20230314T184505Z
LAST-MODIFIED:20230314T184539Z
UID:10001665-1681034400-1681039800@www.lifechurchal.com
SUMMARY:Easter Sunday
DESCRIPTION:Join us for two amazing services on Palm Sunday\, April 2 and Easter Sunday\, April 9 @ 10 am. Come worship with us and hear a powerful message\, exciting music\, and inspiring worship!
URL:https://www.lifechurchal.com/event/easter-sunday/
LOCATION:LifeChurch Birmingham\, 5567 Chalkville Rd.\, Birmingham\, AL\, 35235\, United States
CATEGORIES:Worship Experience
GEO:33.6523979;-86.6381384
X-APPLE-STRUCTURED-LOCATION;VALUE=URI;X-ADDRESS=LifeChurch Birmingham 5567 Chalkville Rd. Birmingham AL 35235 United States;X-APPLE-RADIUS=500;X-TITLE=5567 Chalkville Rd.:geo:-86.6381384,33.6523979
END:VEVENT
BEGIN:VEVENT
DTSTART;TZID=America/New_York:20260419T100000
DTEND;TZID=America/New_York:20260419T120000
DTSTAMP:20260423T164535
CREATED:20250907T164104Z
LAST-MODIFIED:20250904T193605Z
UID:10002060-1776592800-1776600000@www.lifechurchal.com
SUMMARY:Sunday Morning Worship Experience
DESCRIPTION:
URL:https://www.lifechurchal.com/event/sunday-morning-worship-experience/2026-04-19/
LOCATION:LifeChurch Birmingham\, 5567 Chalkville Rd.\, Birmingham\, AL\, 35235\, United States
CATEGORIES:Worship Experience
ATTACH;FMTTYPE=image/jpeg:https://www.lifechurchal.com/wp-content/uploads/abstract-q-c-850-547-4.jpg
GEO:33.6523979;-86.6381384
X-APPLE-STRUCTURED-LOCATION;VALUE=URI;X-ADDRESS=LifeChurch Birmingham 5567 Chalkville Rd. Birmingham AL 35235 United States;X-APPLE-RADIUS=500;X-TITLE=5567 Chalkville Rd.:geo:-86.6381384,33.6523979
END:VEVENT
BEGIN:VEVENT
DTSTART;TZID=America/New_York:20260422T184500
DTEND;TZID=America/New_York:20260422T200000
DTSTAMP:20260423T164535
CREATED:20250904T193823Z
LAST-MODIFIED:20250908T174150Z
UID:10002333-1776883500-1776888000@www.lifechurchal.com
SUMMARY:Wednesday Night Prayer
DESCRIPTION:
URL:https://www.lifechurchal.com/event/wednesday-night-prayer/2026-04-22/
LOCATION:AL
CATEGORIES:Worship Experience
END:VEVENT
BEGIN:VEVENT
DTSTART;TZID=America/New_York:20260422T184500
DTEND;TZID=America/New_York:20260422T200000
DTSTAMP:20260423T164535
CREATED:20230605T162557Z
LAST-MODIFIED:20240813T185056Z
UID:10001807-1776883500-1776888000@www.lifechurchal.com
SUMMARY:Wednesday Night Prayer
DESCRIPTION:
URL:https://www.lifechurchal.com/event/wednesday-night-prayer-2-2/2026-04-22/
LOCATION:LifeChurch Birmingham\, 5567 Chalkville Rd.\, Birmingham\, AL\, 35235\, United States
CATEGORIES:Worship Experience
ATTACH;FMTTYPE=image/jpeg:https://www.lifechurchal.com/wp-content/uploads/2016/01/the_secret_place-background-still-16x9.jpg
GEO:33.6523979;-86.6381384
X-APPLE-STRUCTURED-LOCATION;VALUE=URI;X-ADDRESS=LifeChurch Birmingham 5567 Chalkville Rd. Birmingham AL 35235 United States;X-APPLE-RADIUS=500;X-TITLE=5567 Chalkville Rd.:geo:-86.6381384,33.6523979
END:VEVENT
END:VCALENDAR