BEGIN:VCALENDAR
VERSION:2.0
PRODID:-//Life Church Birmingham - ECPv6.15.13//NONSGML v1.0//EN
CALSCALE:GREGORIAN
METHOD:PUBLISH
X-WR-CALNAME:Life Church Birmingham
X-ORIGINAL-URL:https://www.lifechurchal.com
X-WR-CALDESC:Events for Life Church Birmingham
REFRESH-INTERVAL;VALUE=DURATION:PT1H
X-Robots-Tag:noindex
X-PUBLISHED-TTL:PT1H
BEGIN:VTIMEZONE
TZID:America/New_York
BEGIN:DAYLIGHT
TZOFFSETFROM:-0500
TZOFFSETTO:-0400
TZNAME:EDT
DTSTART:20140309T070000
END:DAYLIGHT
BEGIN:STANDARD
TZOFFSETFROM:-0400
TZOFFSETTO:-0500
TZNAME:EST
DTSTART:20141102T060000
END:STANDARD
BEGIN:DAYLIGHT
TZOFFSETFROM:-0500
TZOFFSETTO:-0400
TZNAME:EDT
DTSTART:20150308T070000
END:DAYLIGHT
BEGIN:STANDARD
TZOFFSETFROM:-0400
TZOFFSETTO:-0500
TZNAME:EST
DTSTART:20151101T060000
END:STANDARD
BEGIN:DAYLIGHT
TZOFFSETFROM:-0500
TZOFFSETTO:-0400
TZNAME:EDT
DTSTART:20160313T070000
END:DAYLIGHT
BEGIN:STANDARD
TZOFFSETFROM:-0400
TZOFFSETTO:-0500
TZNAME:EST
DTSTART:20161106T060000
END:STANDARD
END:VTIMEZONE
BEGIN:VEVENT
DTSTART;TZID=America/New_York:20150809T173000
DTEND;TZID=America/New_York:20150809T190000
DTSTAMP:20260424T011505
CREATED:20150718T033205Z
LAST-MODIFIED:20150724T150938Z
UID:10001233-1439141400-1439146800@www.lifechurchal.com
SUMMARY:Night of Worship
DESCRIPTION:We have been given the victory through our Lord Jesus Christ. Come join us for a Night of Worship and declare victory over your situation.  We are expecting an amazing encounter with God so you don’t want to miss it. Hope to see you there. \n1 Corinthians 15:57 NIV “But thanks be to God! He gives us the victory through our Lord Jesus Christ.”
URL:https://www.lifechurchal.com/event/night-of-worship/
LOCATION:LifeChurch Birmingham\, 5567 Chalkville Rd.\, Birmingham\, AL\, 35235\, United States
CATEGORIES:Night of Worship
GEO:33.6523979;-86.6381384
X-APPLE-STRUCTURED-LOCATION;VALUE=URI;X-ADDRESS=LifeChurch Birmingham 5567 Chalkville Rd. Birmingham AL 35235 United States;X-APPLE-RADIUS=500;X-TITLE=5567 Chalkville Rd.:geo:-86.6381384,33.6523979
END:VEVENT
END:VCALENDAR