BEGIN:VCALENDAR
VERSION:2.0
PRODID:-//Life Church Birmingham - ECPv6.15.13//NONSGML v1.0//EN
CALSCALE:GREGORIAN
METHOD:PUBLISH
X-WR-CALNAME:Life Church Birmingham
X-ORIGINAL-URL:https://www.lifechurchal.com
X-WR-CALDESC:Events for Life Church Birmingham
REFRESH-INTERVAL;VALUE=DURATION:PT1H
X-Robots-Tag:noindex
X-PUBLISHED-TTL:PT1H
BEGIN:VTIMEZONE
TZID:America/New_York
BEGIN:DAYLIGHT
TZOFFSETFROM:-0500
TZOFFSETTO:-0400
TZNAME:EDT
DTSTART:20140309T070000
END:DAYLIGHT
BEGIN:STANDARD
TZOFFSETFROM:-0400
TZOFFSETTO:-0500
TZNAME:EST
DTSTART:20141102T060000
END:STANDARD
BEGIN:DAYLIGHT
TZOFFSETFROM:-0500
TZOFFSETTO:-0400
TZNAME:EDT
DTSTART:20150308T070000
END:DAYLIGHT
BEGIN:STANDARD
TZOFFSETFROM:-0400
TZOFFSETTO:-0500
TZNAME:EST
DTSTART:20151101T060000
END:STANDARD
BEGIN:DAYLIGHT
TZOFFSETFROM:-0500
TZOFFSETTO:-0400
TZNAME:EDT
DTSTART:20160313T070000
END:DAYLIGHT
BEGIN:STANDARD
TZOFFSETFROM:-0400
TZOFFSETTO:-0500
TZNAME:EST
DTSTART:20161106T060000
END:STANDARD
BEGIN:DAYLIGHT
TZOFFSETFROM:-0500
TZOFFSETTO:-0400
TZNAME:EDT
DTSTART:20170312T070000
END:DAYLIGHT
BEGIN:STANDARD
TZOFFSETFROM:-0400
TZOFFSETTO:-0500
TZNAME:EST
DTSTART:20171105T060000
END:STANDARD
BEGIN:DAYLIGHT
TZOFFSETFROM:-0500
TZOFFSETTO:-0400
TZNAME:EDT
DTSTART:20180311T070000
END:DAYLIGHT
BEGIN:STANDARD
TZOFFSETFROM:-0400
TZOFFSETTO:-0500
TZNAME:EST
DTSTART:20181104T060000
END:STANDARD
BEGIN:DAYLIGHT
TZOFFSETFROM:-0500
TZOFFSETTO:-0400
TZNAME:EDT
DTSTART:20190310T070000
END:DAYLIGHT
BEGIN:STANDARD
TZOFFSETFROM:-0400
TZOFFSETTO:-0500
TZNAME:EST
DTSTART:20191103T060000
END:STANDARD
BEGIN:DAYLIGHT
TZOFFSETFROM:-0500
TZOFFSETTO:-0400
TZNAME:EDT
DTSTART:20200308T070000
END:DAYLIGHT
BEGIN:STANDARD
TZOFFSETFROM:-0400
TZOFFSETTO:-0500
TZNAME:EST
DTSTART:20201101T060000
END:STANDARD
BEGIN:DAYLIGHT
TZOFFSETFROM:-0500
TZOFFSETTO:-0400
TZNAME:EDT
DTSTART:20210314T070000
END:DAYLIGHT
BEGIN:STANDARD
TZOFFSETFROM:-0400
TZOFFSETTO:-0500
TZNAME:EST
DTSTART:20211107T060000
END:STANDARD
BEGIN:DAYLIGHT
TZOFFSETFROM:-0500
TZOFFSETTO:-0400
TZNAME:EDT
DTSTART:20220313T070000
END:DAYLIGHT
BEGIN:STANDARD
TZOFFSETFROM:-0400
TZOFFSETTO:-0500
TZNAME:EST
DTSTART:20221106T060000
END:STANDARD
END:VTIMEZONE
BEGIN:VEVENT
DTSTART;TZID=America/New_York:20210718T173000
DTEND;TZID=America/New_York:20210718T183000
DTSTAMP:20260423T202447
CREATED:20210714T210923Z
LAST-MODIFIED:20210714T210923Z
UID:10001546-1626629400-1626633000@www.lifechurchal.com
SUMMARY:Kidsplosion Pizza Party
DESCRIPTION:We have our Kidsplosion Sunday\, July 18th.  This is going to be an exciting time for our kids in the Family Life Center Building.  Sunday morning from 10 am-12 pm our kids will have an exciting Kidsplosion service with lots of fun games\, puppets\, and more!  Then\, bring your kids back Sunday afternoon for THREE parties just for kids.  At 4:30 pm\, we will have an inflatable party.  At 5:30 pm\, we will have a pizza party and at 6:30 pm\, we will have an ultimate Kidsplosion party!  This event is for elementary aged kids.  You don’t want to miss it!
URL:https://www.lifechurchal.com/event/kidsplosion-pizza-party/
LOCATION:LifeChurch Birmingham\, 5567 Chalkville Rd.\, Birmingham\, AL\, 35235\, United States
CATEGORIES:Kids
GEO:33.6523979;-86.6381384
X-APPLE-STRUCTURED-LOCATION;VALUE=URI;X-ADDRESS=LifeChurch Birmingham 5567 Chalkville Rd. Birmingham AL 35235 United States;X-APPLE-RADIUS=500;X-TITLE=5567 Chalkville Rd.:geo:-86.6381384,33.6523979
END:VEVENT
BEGIN:VEVENT
DTSTART;TZID=America/New_York:20210718T163000
DTEND;TZID=America/New_York:20210718T173000
DTSTAMP:20260423T202447
CREATED:20210714T210654Z
LAST-MODIFIED:20210714T210654Z
UID:10001545-1626625800-1626629400@www.lifechurchal.com
SUMMARY:Kidsplosion Inflatable Party
DESCRIPTION:We have our Kidsplosion Sunday\, July 18th.  This is going to be an exciting time for our kids in the Family Life Center Building.  Sunday morning from 10 am-12 pm our kids will have an exciting Kidsplosion service with lots of fun games\, puppets\, and more!  Then\, bring your kids back Sunday afternoon for THREE parties just for kids.  At 4:30 pm\, we will have an inflatable party.  At 5:30 pm\, we will have a pizza party and at 6:30 pm\, we will have an ultimate Kidsplosion party!  This event is for elementary aged kids.  You don’t want to miss it!
URL:https://www.lifechurchal.com/event/kidsplosion-inflatable-party/
LOCATION:LifeChurch Birmingham\, 5567 Chalkville Rd.\, Birmingham\, AL\, 35235\, United States
CATEGORIES:Kids
GEO:33.6523979;-86.6381384
X-APPLE-STRUCTURED-LOCATION;VALUE=URI;X-ADDRESS=LifeChurch Birmingham 5567 Chalkville Rd. Birmingham AL 35235 United States;X-APPLE-RADIUS=500;X-TITLE=5567 Chalkville Rd.:geo:-86.6381384,33.6523979
END:VEVENT
BEGIN:VEVENT
DTSTART;TZID=America/New_York:20210718T100000
DTEND;TZID=America/New_York:20210718T120000
DTSTAMP:20260423T202447
CREATED:20210714T210353Z
LAST-MODIFIED:20210714T210459Z
UID:10001544-1626602400-1626609600@www.lifechurchal.com
SUMMARY:Kidsplosion Service
DESCRIPTION:We have our Kidsplosion this Sunday\, July 18th.  This is going to be an exciting time for our kids in the Family Life Center Building.  Sunday morning from 10 am-12 pm our kids will have an exciting Kidsplosion service with lots of fun games\, puppets\, and more!  Then\, bring your kids back Sunday afternoon for THREE parties just for kids.  At 4:30 pm\, we will have an inflatable party.  At 5:30 pm\, we will have a pizza party and at 6:30 pm\, we will have an ultimate Kidsplosion party!  This event is for elementary aged kids.  You don’t want to miss it!
URL:https://www.lifechurchal.com/event/kidsplosion-service/
LOCATION:LifeChurch Birmingham\, 5567 Chalkville Rd.\, Birmingham\, AL\, 35235\, United States
CATEGORIES:Kids
GEO:33.6523979;-86.6381384
X-APPLE-STRUCTURED-LOCATION;VALUE=URI;X-ADDRESS=LifeChurch Birmingham 5567 Chalkville Rd. Birmingham AL 35235 United States;X-APPLE-RADIUS=500;X-TITLE=5567 Chalkville Rd.:geo:-86.6381384,33.6523979
END:VEVENT
BEGIN:VEVENT
DTSTART;TZID=America/New_York:20190420T100000
DTEND;TZID=America/New_York:20190420T120000
DTSTAMP:20260423T202447
CREATED:20190409T175919Z
LAST-MODIFIED:20190409T175919Z
UID:10000002-1555754400-1555761600@www.lifechurchal.com
SUMMARY:Community Wide Egg Hunt
DESCRIPTION:LifeChurch Birmingham is hosting a community wide egg hunt at the Trussville Mall for kids toddler-6th grade. There will be Easter basket giveaways\, silver money eggs\, grilled hot dogs\, prize filled eggs and more. You’re invited to join us for this family event!
URL:https://www.lifechurchal.com/event/community-wide-egg-hunt/
LOCATION:LifeChurch Birmingham\, 5567 Chalkville Rd.\, Birmingham\, AL\, 35235\, United States
CATEGORIES:Family,Kids
GEO:33.6523979;-86.6381384
X-APPLE-STRUCTURED-LOCATION;VALUE=URI;X-ADDRESS=LifeChurch Birmingham 5567 Chalkville Rd. Birmingham AL 35235 United States;X-APPLE-RADIUS=500;X-TITLE=5567 Chalkville Rd.:geo:-86.6381384,33.6523979
END:VEVENT
BEGIN:VEVENT
DTSTART;TZID=America/New_York:20170723T150000
DTEND;TZID=America/New_York:20170723T180000
DTSTAMP:20260423T202447
CREATED:20170705T202234Z
LAST-MODIFIED:20170705T202234Z
UID:10001252-1500822000-1500832800@www.lifechurchal.com
SUMMARY:Birmingham Barons Game
DESCRIPTION:Mark your calendar for July 23rd @ 3 pm. We’re going to a Birmingham Barons games. Tickets are $10.00 per person and include a hot dog\, chips and drink. We will be sitting on the lawn\, so bring blankets (no chairs). Kids will be able to run around and play too! We would love for you to join us for this exciting event! The deadline to sign up is July 12. You can sign up at the welcome center or call us to reserve your ticket.
URL:https://www.lifechurchal.com/event/birmingham-barons-game/
LOCATION:Regions Feild\, 1st Avenue S.\, Birmingham\, AL\, 35233
CATEGORIES:Family,Kids
GEO:33.514914;-86.7974623
X-APPLE-STRUCTURED-LOCATION;VALUE=URI;X-ADDRESS=Regions Feild 1st Avenue S. Birmingham AL 35233;X-APPLE-RADIUS=500;X-TITLE=1st Avenue S.:geo:-86.7974623,33.514914
END:VEVENT
BEGIN:VEVENT
DTSTART;TZID=America/New_York:20170604T100000
DTEND;TZID=America/New_York:20170604T120000
DTSTAMP:20260423T202447
CREATED:20170419T163502Z
LAST-MODIFIED:20170602T154304Z
UID:10001251-1496570400-1496577600@www.lifechurchal.com
SUMMARY:Maker Fun Factory VBS
DESCRIPTION:Spark Imagination With Faith-Building Fun!\nChildren K5-6th grade are invited to join us for an exciting VBS adventure. Imagine a world where curious kids become hands-on inventors who discover they’re lovingly crafted by God. Spark creativity with interactive decoration and experiences. Maker Fun Factory VBS is buzzing with excitement! \n 
URL:https://www.lifechurchal.com/event/maker-fun-factory-vbs-3/
LOCATION:LifeChurch Birmingham\, 5567 Chalkville Rd.\, Birmingham\, AL\, 35235\, United States
CATEGORIES:Family,Kids
GEO:33.6523979;-86.6381384
X-APPLE-STRUCTURED-LOCATION;VALUE=URI;X-ADDRESS=LifeChurch Birmingham 5567 Chalkville Rd. Birmingham AL 35235 United States;X-APPLE-RADIUS=500;X-TITLE=5567 Chalkville Rd.:geo:-86.6381384,33.6523979
END:VEVENT
BEGIN:VEVENT
DTSTART;TZID=America/New_York:20170603T100000
DTEND;TZID=America/New_York:20170603T140000
DTSTAMP:20260423T202447
CREATED:20170419T163217Z
LAST-MODIFIED:20170602T154623Z
UID:10001250-1496484000-1496498400@www.lifechurchal.com
SUMMARY:Maker Fun Factory VBS
DESCRIPTION:Spark Imagination With Faith-Building Fun!\nChildren K5- 6th grade are invited to join us for an exiting VBS adventure. Imagine a world where curious kids become hands-on inventors who discover they’re lovingly crafted by God. Spark creativity with interactive decoration and experiences. Maker Fun Factory VBS is buzzing with excitement! \n 
URL:https://www.lifechurchal.com/event/maker-fun-factory-vbs-2/
LOCATION:LifeChurch Birmingham\, 5567 Chalkville Rd.\, Birmingham\, AL\, 35235\, United States
CATEGORIES:Family,Kids
GEO:33.6523979;-86.6381384
X-APPLE-STRUCTURED-LOCATION;VALUE=URI;X-ADDRESS=LifeChurch Birmingham 5567 Chalkville Rd. Birmingham AL 35235 United States;X-APPLE-RADIUS=500;X-TITLE=5567 Chalkville Rd.:geo:-86.6381384,33.6523979
END:VEVENT
BEGIN:VEVENT
DTSTART;TZID=America/New_York:20150729T190000
DTEND;TZID=America/New_York:20150729T200000
DTSTAMP:20260423T202447
CREATED:20150724T144805Z
LAST-MODIFIED:20150728T201309Z
UID:10001235-1438196400-1438200000@www.lifechurchal.com
SUMMARY:Mpact Honor Ceremony
DESCRIPTION:We are excited to award all of the Mpact girls for their many accomplishments.  We also have the pleasure of honoring the young ladies who have worked hard and completed numerous badges\, scripture memorization\, and extra requirements to earn the privilege of being Honor Rainbows\, Daises\, Prims\, and Stars.  A reception will follow this ceremony in the café. \n 
URL:https://www.lifechurchal.com/event/mpact-honor-ceremony/
LOCATION:LifeChurch Birmingham\, 5567 Chalkville Rd.\, Birmingham\, AL\, 35235\, United States
CATEGORIES:Family,Kids
ATTACH;FMTTYPE=image/png:https://www.lifechurchal.com/wp-content/uploads/LC-Ministry-Kids-MPact-Girls.png
GEO:33.6523979;-86.6381384
X-APPLE-STRUCTURED-LOCATION;VALUE=URI;X-ADDRESS=LifeChurch Birmingham 5567 Chalkville Rd. Birmingham AL 35235 United States;X-APPLE-RADIUS=500;X-TITLE=5567 Chalkville Rd.:geo:-86.6381384,33.6523979
END:VEVENT
BEGIN:VEVENT
DTSTART;TZID=America/New_York:20150722T183000
DTEND;TZID=America/New_York:20150722T210000
DTSTAMP:20260423T202447
CREATED:20150718T033605Z
LAST-MODIFIED:20150722T190650Z
UID:10001234-1437589800-1437598800@www.lifechurchal.com
SUMMARY:Everest VBS
DESCRIPTION:Welcome to Everest:\nConquering Challenges With God’s Mighty Power\nhttps://vimeo.com/97877036 \nEach day\, kids participate in small groups\, called Climbing Crews\, and discover practical ways to hold on to God’s mighty power! Not only will they experience exciting Bible adventures but they’ll also watch for God in everyday life through something called God Sightings™. You and your kids will discover that God is active in our lives and that His fingerprints are everywhere! \nEverest is filled with epic Bible-learning experiences kids will see\, hear\, touch\, and even taste! KidVid Cinema shares real stories of real kids who rely on God’s power to face life’s challenges! Plus\, team-building games\, cool Bible songs\, and tasty treats keep everyone on the move.​ \nThis VBS promises to be mountains of fun! Plus\, kids walk away with a rock-solid faith that they can rely on God when life gets tough. Join our climbing team―register to be a part of Everest VBS!​
URL:https://www.lifechurchal.com/event/everest-vbs/2015-07-22/
LOCATION:LifeChurch Birmingham\, 5567 Chalkville Rd.\, Birmingham\, AL\, 35235\, United States
CATEGORIES:Kids
GEO:33.6523979;-86.6381384
X-APPLE-STRUCTURED-LOCATION;VALUE=URI;X-ADDRESS=LifeChurch Birmingham 5567 Chalkville Rd. Birmingham AL 35235 United States;X-APPLE-RADIUS=500;X-TITLE=5567 Chalkville Rd.:geo:-86.6381384,33.6523979
END:VEVENT
END:VCALENDAR