BEGIN:VCALENDAR
VERSION:2.0
PRODID:-//Life Church Birmingham - ECPv6.15.13//NONSGML v1.0//EN
CALSCALE:GREGORIAN
METHOD:PUBLISH
X-ORIGINAL-URL:https://www.lifechurchal.com
X-WR-CALDESC:Events for Life Church Birmingham
REFRESH-INTERVAL;VALUE=DURATION:PT1H
X-Robots-Tag:noindex
X-PUBLISHED-TTL:PT1H
BEGIN:VTIMEZONE
TZID:America/New_York
BEGIN:DAYLIGHT
TZOFFSETFROM:-0500
TZOFFSETTO:-0400
TZNAME:EDT
DTSTART:20210314T070000
END:DAYLIGHT
BEGIN:STANDARD
TZOFFSETFROM:-0400
TZOFFSETTO:-0500
TZNAME:EST
DTSTART:20211107T060000
END:STANDARD
BEGIN:DAYLIGHT
TZOFFSETFROM:-0500
TZOFFSETTO:-0400
TZNAME:EDT
DTSTART:20220313T070000
END:DAYLIGHT
BEGIN:STANDARD
TZOFFSETFROM:-0400
TZOFFSETTO:-0500
TZNAME:EST
DTSTART:20221106T060000
END:STANDARD
BEGIN:DAYLIGHT
TZOFFSETFROM:-0500
TZOFFSETTO:-0400
TZNAME:EDT
DTSTART:20230312T070000
END:DAYLIGHT
BEGIN:STANDARD
TZOFFSETFROM:-0400
TZOFFSETTO:-0500
TZNAME:EST
DTSTART:20231105T060000
END:STANDARD
BEGIN:DAYLIGHT
TZOFFSETFROM:-0500
TZOFFSETTO:-0400
TZNAME:EDT
DTSTART:20240310T070000
END:DAYLIGHT
BEGIN:STANDARD
TZOFFSETFROM:-0400
TZOFFSETTO:-0500
TZNAME:EST
DTSTART:20241103T060000
END:STANDARD
END:VTIMEZONE
BEGIN:VEVENT
DTSTART;TZID=America/New_York:20220731T163000
DTEND;TZID=America/New_York:20220731T200000
DTSTAMP:20260423T233136
CREATED:20220712T192322Z
LAST-MODIFIED:20220712T192322Z
UID:10000582-1659285000-1659297600@www.lifechurchal.com
SUMMARY:Kidsplosion 2022
DESCRIPTION:We are so pumped about our upcoming Kidsplosion with special guests\, Heartbeat Family Ministries led by Annie and Scott Miller! It’s going to be an incredible week for the whole family that you don’t want to miss. Mark your calendars for Sunday\, July 31 – Wednesday\, August 3. \n \n 
URL:https://www.lifechurchal.com/event/kidsplosion-2022-2/
LOCATION:LifeChurch Birmingham\, 5567 Chalkville Rd.\, Birmingham\, AL\, 35235\, United States
CATEGORIES:Family,Kids
GEO:33.6523979;-86.6381384
X-APPLE-STRUCTURED-LOCATION;VALUE=URI;X-ADDRESS=LifeChurch Birmingham 5567 Chalkville Rd. Birmingham AL 35235 United States;X-APPLE-RADIUS=500;X-TITLE=5567 Chalkville Rd.:geo:-86.6381384,33.6523979
END:VEVENT
BEGIN:VEVENT
DTSTART;TZID=America/New_York:20220803T180000
DTEND;TZID=America/New_York:20220803T200000
DTSTAMP:20260423T233136
CREATED:20220712T192639Z
LAST-MODIFIED:20220712T192639Z
UID:10000585-1659549600-1659556800@www.lifechurchal.com
SUMMARY:Kidsplosion 2022
DESCRIPTION:We are so pumped about our upcoming Kidsplosion with special guests\, Heartbeat Family Ministries led by Annie and Scott Miller! It’s going to be an incredible week for the whole family that you don’t want to miss. Mark your calendars for Sunday\, July 31 – Wednesday\, August 3. \n \n\n 
URL:https://www.lifechurchal.com/event/kidsplosion-2022-3/2022-08-03/
LOCATION:LifeChurch Birmingham\, 5567 Chalkville Rd.\, Birmingham\, AL\, 35235\, United States
CATEGORIES:Family,Kids
GEO:33.6523979;-86.6381384
X-APPLE-STRUCTURED-LOCATION;VALUE=URI;X-ADDRESS=LifeChurch Birmingham 5567 Chalkville Rd. Birmingham AL 35235 United States;X-APPLE-RADIUS=500;X-TITLE=5567 Chalkville Rd.:geo:-86.6381384,33.6523979
END:VEVENT
BEGIN:VEVENT
DTSTART;TZID=America/New_York:20221211T100000
DTEND;TZID=America/New_York:20221211T120000
DTSTAMP:20260423T233136
CREATED:20221206T170853Z
LAST-MODIFIED:20221206T174201Z
UID:10000586-1670752800-1670760000@www.lifechurchal.com
SUMMARY:Christmas at LifeChurch
DESCRIPTION:We are excited to have a special performance by our LifeChurch Kids Choir this Sunday to open the service.  Come join us as we celebrate the birth of Jesus!
URL:https://www.lifechurchal.com/event/christmas-at-lifechurch/
LOCATION:LifeChurch Birmingham\, 5567 Chalkville Rd.\, Birmingham\, AL\, 35235\, United States
CATEGORIES:Adults,Family,Kids,Worship Experience
GEO:33.6523979;-86.6381384
X-APPLE-STRUCTURED-LOCATION;VALUE=URI;X-ADDRESS=LifeChurch Birmingham 5567 Chalkville Rd. Birmingham AL 35235 United States;X-APPLE-RADIUS=500;X-TITLE=5567 Chalkville Rd.:geo:-86.6381384,33.6523979
END:VEVENT
BEGIN:VEVENT
DTSTART;TZID=America/New_York:20221211T170000
DTEND;TZID=America/New_York:20221211T190000
DTSTAMP:20260423T233136
CREATED:20221206T171718Z
LAST-MODIFIED:20221206T171718Z
UID:10000587-1670778000-1670785200@www.lifechurchal.com
SUMMARY:Family Christmas Movie Night
DESCRIPTION:Join us for a Family Christmas Movie Night @ 5 pm.  We will be showing a double feature of two short films that the whole family will enjoy.  We’re providing popcorn and we are asking that each family bring a sweet or salty snack to share!
URL:https://www.lifechurchal.com/event/family-christmas-movie-night/
LOCATION:LifeChurch Birmingham\, 5567 Chalkville Rd.\, Birmingham\, AL\, 35235\, United States
CATEGORIES:Adults,Family,Kids
GEO:33.6523979;-86.6381384
X-APPLE-STRUCTURED-LOCATION;VALUE=URI;X-ADDRESS=LifeChurch Birmingham 5567 Chalkville Rd. Birmingham AL 35235 United States;X-APPLE-RADIUS=500;X-TITLE=5567 Chalkville Rd.:geo:-86.6381384,33.6523979
END:VEVENT
BEGIN:VEVENT
DTSTART;TZID=America/New_York:20221225T100000
DTEND;TZID=America/New_York:20221225T110000
DTSTAMP:20260423T233136
CREATED:20221206T174016Z
LAST-MODIFIED:20221206T174040Z
UID:10000496-1671962400-1671966000@www.lifechurchal.com
SUMMARY:Family Christmas Service
DESCRIPTION:Come celebrate Christmas day with your church family!  We will have a special 1 hour Family Service to celebrate the birth of Jesus
URL:https://www.lifechurchal.com/event/family-christmas-service/
LOCATION:LifeChurch Birmingham\, 5567 Chalkville Rd.\, Birmingham\, AL\, 35235\, United States
CATEGORIES:Adults,Family,Kids,Worship Experience
GEO:33.6523979;-86.6381384
X-APPLE-STRUCTURED-LOCATION;VALUE=URI;X-ADDRESS=LifeChurch Birmingham 5567 Chalkville Rd. Birmingham AL 35235 United States;X-APPLE-RADIUS=500;X-TITLE=5567 Chalkville Rd.:geo:-86.6381384,33.6523979
END:VEVENT
BEGIN:VEVENT
DTSTART;TZID=America/New_York:20221225T170000
DTEND;TZID=America/New_York:20221225T180000
DTSTAMP:20260423T233136
CREATED:20221206T171937Z
LAST-MODIFIED:20221206T174111Z
UID:10000588-1671987600-1671991200@www.lifechurchal.com
SUMMARY:Christmas Eve Candlelight Service
DESCRIPTION:Join us for a special 1 hour Christmas Eve Candlelight Service.  We’ll sing Christmas carols by candlelight and enjoy celebrating the season with friends a family.
URL:https://www.lifechurchal.com/event/christmas-eve-candlelight-service/
LOCATION:LifeChurch Birmingham\, 5567 Chalkville Rd.\, Birmingham\, AL\, 35235\, United States
CATEGORIES:Adults,Family,Kids,Worship Experience
GEO:33.6523979;-86.6381384
X-APPLE-STRUCTURED-LOCATION;VALUE=URI;X-ADDRESS=LifeChurch Birmingham 5567 Chalkville Rd. Birmingham AL 35235 United States;X-APPLE-RADIUS=500;X-TITLE=5567 Chalkville Rd.:geo:-86.6381384,33.6523979
END:VEVENT
BEGIN:VEVENT
DTSTART;TZID=America/New_York:20230402T100000
DTEND;TZID=America/New_York:20230402T113000
DTSTAMP:20260423T233136
CREATED:20230314T180411Z
LAST-MODIFIED:20230314T180743Z
UID:10001662-1680429600-1680435000@www.lifechurchal.com
SUMMARY:Palm Sunday for Kids
DESCRIPTION:Palm Sunday/Easter for Kids\nJoin us for two exciting events just for kids. On Palm Sunday\, April 2nd\, we will have an egg hunt for kids ages 3-12 (6th grade). We’re going to have games\, prizes and so much more! Then\, on Easter Sunday\, April 9th we are going to have a glow party also for ages 3-12 (6th grade). It’s going to be so much fun! You don’t want to miss it! \n  \nFor more information\, click the link below \nhttps://www.facebook.com/events/1237657063812126/1237658217145344/?active_tab=about
URL:https://www.lifechurchal.com/event/palm-sunday-for-kids/
LOCATION:LifeChurch Birmingham\, 5567 Chalkville Rd.\, Birmingham\, AL\, 35235\, United States
CATEGORIES:Family,Kids
GEO:33.6523979;-86.6381384
X-APPLE-STRUCTURED-LOCATION;VALUE=URI;X-ADDRESS=LifeChurch Birmingham 5567 Chalkville Rd. Birmingham AL 35235 United States;X-APPLE-RADIUS=500;X-TITLE=5567 Chalkville Rd.:geo:-86.6381384,33.6523979
END:VEVENT
BEGIN:VEVENT
DTSTART;TZID=America/New_York:20230409T100000
DTEND;TZID=America/New_York:20230409T113000
DTSTAMP:20260423T233136
CREATED:20230314T180713Z
LAST-MODIFIED:20230314T182509Z
UID:10001663-1681034400-1681039800@www.lifechurchal.com
SUMMARY:Easter Glow Party for Kids
DESCRIPTION:Palm Sunday/Easter for Kids\nJoin us for two exciting events just for kids. On Palm Sunday\, April 2nd\, we will have an egg hunt for kids ages 3-12 (6th grade). We’re going to have games\, prizes and so much more! Then\, on Easter Sunday\, April 9th we are going to have a glow party also for ages 3-12 (6th grade). It’s going to be so much fun! You don’t want to miss it! \n  \nFor more information\, click the link below \nhttps://www.facebook.com/events/1237657063812126/1237658217145344/?active_tab=about
URL:https://www.lifechurchal.com/event/easter-glow-party-for-kids/
LOCATION:LifeChurch Birmingham\, 5567 Chalkville Rd.\, Birmingham\, AL\, 35235\, United States
CATEGORIES:Family,Kids
GEO:33.6523979;-86.6381384
X-APPLE-STRUCTURED-LOCATION;VALUE=URI;X-ADDRESS=LifeChurch Birmingham 5567 Chalkville Rd. Birmingham AL 35235 United States;X-APPLE-RADIUS=500;X-TITLE=5567 Chalkville Rd.:geo:-86.6381384,33.6523979
END:VEVENT
END:VCALENDAR