BEGIN:VCALENDAR
VERSION:2.0
PRODID:-//Life Church Birmingham - ECPv6.15.13//NONSGML v1.0//EN
CALSCALE:GREGORIAN
METHOD:PUBLISH
X-WR-CALNAME:Life Church Birmingham
X-ORIGINAL-URL:http://www.lifechurchal.com
X-WR-CALDESC:Events for Life Church Birmingham
REFRESH-INTERVAL;VALUE=DURATION:PT1H
X-Robots-Tag:noindex
X-PUBLISHED-TTL:PT1H
BEGIN:VTIMEZONE
TZID:America/New_York
BEGIN:DAYLIGHT
TZOFFSETFROM:-0500
TZOFFSETTO:-0400
TZNAME:EDT
DTSTART:20240310T070000
END:DAYLIGHT
BEGIN:STANDARD
TZOFFSETFROM:-0400
TZOFFSETTO:-0500
TZNAME:EST
DTSTART:20241103T060000
END:STANDARD
BEGIN:DAYLIGHT
TZOFFSETFROM:-0500
TZOFFSETTO:-0400
TZNAME:EDT
DTSTART:20250309T070000
END:DAYLIGHT
BEGIN:STANDARD
TZOFFSETFROM:-0400
TZOFFSETTO:-0500
TZNAME:EST
DTSTART:20251102T060000
END:STANDARD
BEGIN:DAYLIGHT
TZOFFSETFROM:-0500
TZOFFSETTO:-0400
TZNAME:EDT
DTSTART:20260308T070000
END:DAYLIGHT
BEGIN:STANDARD
TZOFFSETFROM:-0400
TZOFFSETTO:-0500
TZNAME:EST
DTSTART:20261101T060000
END:STANDARD
END:VTIMEZONE
BEGIN:VEVENT
DTSTART;TZID=America/New_York:20250101T184500
DTEND;TZID=America/New_York:20250101T200000
DTSTAMP:20260424T132635
CREATED:20230605T162557Z
LAST-MODIFIED:20240813T185056Z
UID:10001739-1735757100-1735761600@www.lifechurchal.com
SUMMARY:Wednesday Night Prayer
DESCRIPTION:
URL:http://www.lifechurchal.com/event/wednesday-night-prayer-2-2/2025-01-01/
LOCATION:LifeChurch Birmingham\, 5567 Chalkville Rd.\, Birmingham\, AL\, 35235\, United States
CATEGORIES:Worship Experience
ATTACH;FMTTYPE=image/jpeg:http://www.lifechurchal.com/wp-content/uploads/2016/01/the_secret_place-background-still-16x9.jpg
GEO:33.6523979;-86.6381384
X-APPLE-STRUCTURED-LOCATION;VALUE=URI;X-ADDRESS=LifeChurch Birmingham 5567 Chalkville Rd. Birmingham AL 35235 United States;X-APPLE-RADIUS=500;X-TITLE=5567 Chalkville Rd.:geo:-86.6381384,33.6523979
END:VEVENT
BEGIN:VEVENT
DTSTART;TZID=America/New_York:20250105T100000
DTEND;TZID=America/New_York:20250105T120000
DTSTAMP:20260424T132635
CREATED:20250907T164104Z
LAST-MODIFIED:20250904T193605Z
UID:10001993-1736071200-1736078400@www.lifechurchal.com
SUMMARY:Sunday Morning Worship Experience
DESCRIPTION:
URL:http://www.lifechurchal.com/event/sunday-morning-worship-experience/2025-01-05/
LOCATION:LifeChurch Birmingham\, 5567 Chalkville Rd.\, Birmingham\, AL\, 35235\, United States
CATEGORIES:Worship Experience
ATTACH;FMTTYPE=image/jpeg:http://www.lifechurchal.com/wp-content/uploads/abstract-q-c-850-547-4.jpg
GEO:33.6523979;-86.6381384
X-APPLE-STRUCTURED-LOCATION;VALUE=URI;X-ADDRESS=LifeChurch Birmingham 5567 Chalkville Rd. Birmingham AL 35235 United States;X-APPLE-RADIUS=500;X-TITLE=5567 Chalkville Rd.:geo:-86.6381384,33.6523979
END:VEVENT
BEGIN:VEVENT
DTSTART;TZID=America/New_York:20250108T184500
DTEND;TZID=America/New_York:20250108T200000
DTSTAMP:20260424T132635
CREATED:20230605T162557Z
LAST-MODIFIED:20240813T185056Z
UID:10001740-1736361900-1736366400@www.lifechurchal.com
SUMMARY:Wednesday Night Prayer
DESCRIPTION:
URL:http://www.lifechurchal.com/event/wednesday-night-prayer-2-2/2025-01-08/
LOCATION:LifeChurch Birmingham\, 5567 Chalkville Rd.\, Birmingham\, AL\, 35235\, United States
CATEGORIES:Worship Experience
ATTACH;FMTTYPE=image/jpeg:http://www.lifechurchal.com/wp-content/uploads/2016/01/the_secret_place-background-still-16x9.jpg
GEO:33.6523979;-86.6381384
X-APPLE-STRUCTURED-LOCATION;VALUE=URI;X-ADDRESS=LifeChurch Birmingham 5567 Chalkville Rd. Birmingham AL 35235 United States;X-APPLE-RADIUS=500;X-TITLE=5567 Chalkville Rd.:geo:-86.6381384,33.6523979
END:VEVENT
BEGIN:VEVENT
DTSTART;TZID=America/New_York:20250112T100000
DTEND;TZID=America/New_York:20250112T120000
DTSTAMP:20260424T132635
CREATED:20250907T164104Z
LAST-MODIFIED:20250904T193605Z
UID:10001994-1736676000-1736683200@www.lifechurchal.com
SUMMARY:Sunday Morning Worship Experience
DESCRIPTION:
URL:http://www.lifechurchal.com/event/sunday-morning-worship-experience/2025-01-12/
LOCATION:LifeChurch Birmingham\, 5567 Chalkville Rd.\, Birmingham\, AL\, 35235\, United States
CATEGORIES:Worship Experience
ATTACH;FMTTYPE=image/jpeg:http://www.lifechurchal.com/wp-content/uploads/abstract-q-c-850-547-4.jpg
GEO:33.6523979;-86.6381384
X-APPLE-STRUCTURED-LOCATION;VALUE=URI;X-ADDRESS=LifeChurch Birmingham 5567 Chalkville Rd. Birmingham AL 35235 United States;X-APPLE-RADIUS=500;X-TITLE=5567 Chalkville Rd.:geo:-86.6381384,33.6523979
END:VEVENT
BEGIN:VEVENT
DTSTART;TZID=America/New_York:20250115T184500
DTEND;TZID=America/New_York:20250115T200000
DTSTAMP:20260424T132635
CREATED:20230605T162557Z
LAST-MODIFIED:20240813T185056Z
UID:10001741-1736966700-1736971200@www.lifechurchal.com
SUMMARY:Wednesday Night Prayer
DESCRIPTION:
URL:http://www.lifechurchal.com/event/wednesday-night-prayer-2-2/2025-01-15/
LOCATION:LifeChurch Birmingham\, 5567 Chalkville Rd.\, Birmingham\, AL\, 35235\, United States
CATEGORIES:Worship Experience
ATTACH;FMTTYPE=image/jpeg:http://www.lifechurchal.com/wp-content/uploads/2016/01/the_secret_place-background-still-16x9.jpg
GEO:33.6523979;-86.6381384
X-APPLE-STRUCTURED-LOCATION;VALUE=URI;X-ADDRESS=LifeChurch Birmingham 5567 Chalkville Rd. Birmingham AL 35235 United States;X-APPLE-RADIUS=500;X-TITLE=5567 Chalkville Rd.:geo:-86.6381384,33.6523979
END:VEVENT
BEGIN:VEVENT
DTSTART;TZID=America/New_York:20250119T100000
DTEND;TZID=America/New_York:20250119T120000
DTSTAMP:20260424T132635
CREATED:20250907T164104Z
LAST-MODIFIED:20250904T193605Z
UID:10001995-1737280800-1737288000@www.lifechurchal.com
SUMMARY:Sunday Morning Worship Experience
DESCRIPTION:
URL:http://www.lifechurchal.com/event/sunday-morning-worship-experience/2025-01-19/
LOCATION:LifeChurch Birmingham\, 5567 Chalkville Rd.\, Birmingham\, AL\, 35235\, United States
CATEGORIES:Worship Experience
ATTACH;FMTTYPE=image/jpeg:http://www.lifechurchal.com/wp-content/uploads/abstract-q-c-850-547-4.jpg
GEO:33.6523979;-86.6381384
X-APPLE-STRUCTURED-LOCATION;VALUE=URI;X-ADDRESS=LifeChurch Birmingham 5567 Chalkville Rd. Birmingham AL 35235 United States;X-APPLE-RADIUS=500;X-TITLE=5567 Chalkville Rd.:geo:-86.6381384,33.6523979
END:VEVENT
BEGIN:VEVENT
DTSTART;TZID=America/New_York:20250122T184500
DTEND;TZID=America/New_York:20250122T200000
DTSTAMP:20260424T132635
CREATED:20230605T162557Z
LAST-MODIFIED:20240813T185056Z
UID:10001742-1737571500-1737576000@www.lifechurchal.com
SUMMARY:Wednesday Night Prayer
DESCRIPTION:
URL:http://www.lifechurchal.com/event/wednesday-night-prayer-2-2/2025-01-22/
LOCATION:LifeChurch Birmingham\, 5567 Chalkville Rd.\, Birmingham\, AL\, 35235\, United States
CATEGORIES:Worship Experience
ATTACH;FMTTYPE=image/jpeg:http://www.lifechurchal.com/wp-content/uploads/2016/01/the_secret_place-background-still-16x9.jpg
GEO:33.6523979;-86.6381384
X-APPLE-STRUCTURED-LOCATION;VALUE=URI;X-ADDRESS=LifeChurch Birmingham 5567 Chalkville Rd. Birmingham AL 35235 United States;X-APPLE-RADIUS=500;X-TITLE=5567 Chalkville Rd.:geo:-86.6381384,33.6523979
END:VEVENT
BEGIN:VEVENT
DTSTART;TZID=America/New_York:20250126T100000
DTEND;TZID=America/New_York:20250126T120000
DTSTAMP:20260424T132635
CREATED:20250907T164104Z
LAST-MODIFIED:20250904T193605Z
UID:10001996-1737885600-1737892800@www.lifechurchal.com
SUMMARY:Sunday Morning Worship Experience
DESCRIPTION:
URL:http://www.lifechurchal.com/event/sunday-morning-worship-experience/2025-01-26/
LOCATION:LifeChurch Birmingham\, 5567 Chalkville Rd.\, Birmingham\, AL\, 35235\, United States
CATEGORIES:Worship Experience
ATTACH;FMTTYPE=image/jpeg:http://www.lifechurchal.com/wp-content/uploads/abstract-q-c-850-547-4.jpg
GEO:33.6523979;-86.6381384
X-APPLE-STRUCTURED-LOCATION;VALUE=URI;X-ADDRESS=LifeChurch Birmingham 5567 Chalkville Rd. Birmingham AL 35235 United States;X-APPLE-RADIUS=500;X-TITLE=5567 Chalkville Rd.:geo:-86.6381384,33.6523979
END:VEVENT
BEGIN:VEVENT
DTSTART;TZID=America/New_York:20250129T184500
DTEND;TZID=America/New_York:20250129T200000
DTSTAMP:20260424T132635
CREATED:20230605T162557Z
LAST-MODIFIED:20240813T185056Z
UID:10001743-1738176300-1738180800@www.lifechurchal.com
SUMMARY:Wednesday Night Prayer
DESCRIPTION:
URL:http://www.lifechurchal.com/event/wednesday-night-prayer-2-2/2025-01-29/
LOCATION:LifeChurch Birmingham\, 5567 Chalkville Rd.\, Birmingham\, AL\, 35235\, United States
CATEGORIES:Worship Experience
ATTACH;FMTTYPE=image/jpeg:http://www.lifechurchal.com/wp-content/uploads/2016/01/the_secret_place-background-still-16x9.jpg
GEO:33.6523979;-86.6381384
X-APPLE-STRUCTURED-LOCATION;VALUE=URI;X-ADDRESS=LifeChurch Birmingham 5567 Chalkville Rd. Birmingham AL 35235 United States;X-APPLE-RADIUS=500;X-TITLE=5567 Chalkville Rd.:geo:-86.6381384,33.6523979
END:VEVENT
END:VCALENDAR