BEGIN:VCALENDAR
VERSION:2.0
PRODID:-//Life Church Birmingham - ECPv6.15.13//NONSGML v1.0//EN
CALSCALE:GREGORIAN
METHOD:PUBLISH
X-ORIGINAL-URL:http://www.lifechurchal.com
X-WR-CALDESC:Events for Life Church Birmingham
REFRESH-INTERVAL;VALUE=DURATION:PT1H
X-Robots-Tag:noindex
X-PUBLISHED-TTL:PT1H
BEGIN:VTIMEZONE
TZID:America/New_York
BEGIN:DAYLIGHT
TZOFFSETFROM:-0500
TZOFFSETTO:-0400
TZNAME:EDT
DTSTART:20230312T070000
END:DAYLIGHT
BEGIN:STANDARD
TZOFFSETFROM:-0400
TZOFFSETTO:-0500
TZNAME:EST
DTSTART:20231105T060000
END:STANDARD
BEGIN:DAYLIGHT
TZOFFSETFROM:-0500
TZOFFSETTO:-0400
TZNAME:EDT
DTSTART:20240310T070000
END:DAYLIGHT
BEGIN:STANDARD
TZOFFSETFROM:-0400
TZOFFSETTO:-0500
TZNAME:EST
DTSTART:20241103T060000
END:STANDARD
BEGIN:DAYLIGHT
TZOFFSETFROM:-0500
TZOFFSETTO:-0400
TZNAME:EDT
DTSTART:20250309T070000
END:DAYLIGHT
BEGIN:STANDARD
TZOFFSETFROM:-0400
TZOFFSETTO:-0500
TZNAME:EST
DTSTART:20251102T060000
END:STANDARD
END:VTIMEZONE
BEGIN:VEVENT
DTSTART;TZID=America/New_York:20240901T100000
DTEND;TZID=America/New_York:20240901T120000
DTSTAMP:20260424T194712
CREATED:20250907T164104Z
LAST-MODIFIED:20250904T193605Z
UID:10001975-1725184800-1725192000@www.lifechurchal.com
SUMMARY:Sunday Morning Worship Experience
DESCRIPTION:
URL:http://www.lifechurchal.com/event/sunday-morning-worship-experience/2024-09-01/
LOCATION:LifeChurch Birmingham\, 5567 Chalkville Rd.\, Birmingham\, AL\, 35235\, United States
CATEGORIES:Worship Experience
ATTACH;FMTTYPE=image/jpeg:http://www.lifechurchal.com/wp-content/uploads/abstract-q-c-850-547-4.jpg
GEO:33.6523979;-86.6381384
X-APPLE-STRUCTURED-LOCATION;VALUE=URI;X-ADDRESS=LifeChurch Birmingham 5567 Chalkville Rd. Birmingham AL 35235 United States;X-APPLE-RADIUS=500;X-TITLE=5567 Chalkville Rd.:geo:-86.6381384,33.6523979
END:VEVENT
BEGIN:VEVENT
DTSTART;TZID=America/New_York:20240904T184500
DTEND;TZID=America/New_York:20240904T200000
DTSTAMP:20260424T194712
CREATED:20230605T162557Z
LAST-MODIFIED:20240813T185056Z
UID:10001722-1725475500-1725480000@www.lifechurchal.com
SUMMARY:Wednesday Night Prayer
DESCRIPTION:
URL:http://www.lifechurchal.com/event/wednesday-night-prayer-2-2/2024-09-04/
LOCATION:LifeChurch Birmingham\, 5567 Chalkville Rd.\, Birmingham\, AL\, 35235\, United States
CATEGORIES:Worship Experience
ATTACH;FMTTYPE=image/jpeg:http://www.lifechurchal.com/wp-content/uploads/2016/01/the_secret_place-background-still-16x9.jpg
GEO:33.6523979;-86.6381384
X-APPLE-STRUCTURED-LOCATION;VALUE=URI;X-ADDRESS=LifeChurch Birmingham 5567 Chalkville Rd. Birmingham AL 35235 United States;X-APPLE-RADIUS=500;X-TITLE=5567 Chalkville Rd.:geo:-86.6381384,33.6523979
END:VEVENT
BEGIN:VEVENT
DTSTART;TZID=America/New_York:20240908T100000
DTEND;TZID=America/New_York:20240908T120000
DTSTAMP:20260424T194712
CREATED:20250907T164104Z
LAST-MODIFIED:20250904T193605Z
UID:10001976-1725789600-1725796800@www.lifechurchal.com
SUMMARY:Sunday Morning Worship Experience
DESCRIPTION:
URL:http://www.lifechurchal.com/event/sunday-morning-worship-experience/2024-09-08/
LOCATION:LifeChurch Birmingham\, 5567 Chalkville Rd.\, Birmingham\, AL\, 35235\, United States
CATEGORIES:Worship Experience
ATTACH;FMTTYPE=image/jpeg:http://www.lifechurchal.com/wp-content/uploads/abstract-q-c-850-547-4.jpg
GEO:33.6523979;-86.6381384
X-APPLE-STRUCTURED-LOCATION;VALUE=URI;X-ADDRESS=LifeChurch Birmingham 5567 Chalkville Rd. Birmingham AL 35235 United States;X-APPLE-RADIUS=500;X-TITLE=5567 Chalkville Rd.:geo:-86.6381384,33.6523979
END:VEVENT
BEGIN:VEVENT
DTSTART;TZID=America/New_York:20240911T184500
DTEND;TZID=America/New_York:20240911T200000
DTSTAMP:20260424T194712
CREATED:20230605T162557Z
LAST-MODIFIED:20240813T185056Z
UID:10001723-1726080300-1726084800@www.lifechurchal.com
SUMMARY:Wednesday Night Prayer
DESCRIPTION:
URL:http://www.lifechurchal.com/event/wednesday-night-prayer-2-2/2024-09-11/
LOCATION:LifeChurch Birmingham\, 5567 Chalkville Rd.\, Birmingham\, AL\, 35235\, United States
CATEGORIES:Worship Experience
ATTACH;FMTTYPE=image/jpeg:http://www.lifechurchal.com/wp-content/uploads/2016/01/the_secret_place-background-still-16x9.jpg
GEO:33.6523979;-86.6381384
X-APPLE-STRUCTURED-LOCATION;VALUE=URI;X-ADDRESS=LifeChurch Birmingham 5567 Chalkville Rd. Birmingham AL 35235 United States;X-APPLE-RADIUS=500;X-TITLE=5567 Chalkville Rd.:geo:-86.6381384,33.6523979
END:VEVENT
BEGIN:VEVENT
DTSTART;TZID=America/New_York:20240915T100000
DTEND;TZID=America/New_York:20240915T120000
DTSTAMP:20260424T194712
CREATED:20250907T164104Z
LAST-MODIFIED:20250904T193605Z
UID:10001977-1726394400-1726401600@www.lifechurchal.com
SUMMARY:Sunday Morning Worship Experience
DESCRIPTION:
URL:http://www.lifechurchal.com/event/sunday-morning-worship-experience/2024-09-15/
LOCATION:LifeChurch Birmingham\, 5567 Chalkville Rd.\, Birmingham\, AL\, 35235\, United States
CATEGORIES:Worship Experience
ATTACH;FMTTYPE=image/jpeg:http://www.lifechurchal.com/wp-content/uploads/abstract-q-c-850-547-4.jpg
GEO:33.6523979;-86.6381384
X-APPLE-STRUCTURED-LOCATION;VALUE=URI;X-ADDRESS=LifeChurch Birmingham 5567 Chalkville Rd. Birmingham AL 35235 United States;X-APPLE-RADIUS=500;X-TITLE=5567 Chalkville Rd.:geo:-86.6381384,33.6523979
END:VEVENT
BEGIN:VEVENT
DTSTART;TZID=America/New_York:20240918T184500
DTEND;TZID=America/New_York:20240918T200000
DTSTAMP:20260424T194712
CREATED:20230605T162557Z
LAST-MODIFIED:20240813T185056Z
UID:10001724-1726685100-1726689600@www.lifechurchal.com
SUMMARY:Wednesday Night Prayer
DESCRIPTION:
URL:http://www.lifechurchal.com/event/wednesday-night-prayer-2-2/2024-09-18/
LOCATION:LifeChurch Birmingham\, 5567 Chalkville Rd.\, Birmingham\, AL\, 35235\, United States
CATEGORIES:Worship Experience
ATTACH;FMTTYPE=image/jpeg:http://www.lifechurchal.com/wp-content/uploads/2016/01/the_secret_place-background-still-16x9.jpg
GEO:33.6523979;-86.6381384
X-APPLE-STRUCTURED-LOCATION;VALUE=URI;X-ADDRESS=LifeChurch Birmingham 5567 Chalkville Rd. Birmingham AL 35235 United States;X-APPLE-RADIUS=500;X-TITLE=5567 Chalkville Rd.:geo:-86.6381384,33.6523979
END:VEVENT
BEGIN:VEVENT
DTSTART;TZID=America/New_York:20240922T100000
DTEND;TZID=America/New_York:20240922T120000
DTSTAMP:20260424T194712
CREATED:20250907T164104Z
LAST-MODIFIED:20250904T193605Z
UID:10001978-1726999200-1727006400@www.lifechurchal.com
SUMMARY:Sunday Morning Worship Experience
DESCRIPTION:
URL:http://www.lifechurchal.com/event/sunday-morning-worship-experience/2024-09-22/
LOCATION:LifeChurch Birmingham\, 5567 Chalkville Rd.\, Birmingham\, AL\, 35235\, United States
CATEGORIES:Worship Experience
ATTACH;FMTTYPE=image/jpeg:http://www.lifechurchal.com/wp-content/uploads/abstract-q-c-850-547-4.jpg
GEO:33.6523979;-86.6381384
X-APPLE-STRUCTURED-LOCATION;VALUE=URI;X-ADDRESS=LifeChurch Birmingham 5567 Chalkville Rd. Birmingham AL 35235 United States;X-APPLE-RADIUS=500;X-TITLE=5567 Chalkville Rd.:geo:-86.6381384,33.6523979
END:VEVENT
BEGIN:VEVENT
DTSTART;TZID=America/New_York:20240922T114500
DTEND;TZID=America/New_York:20240922T130000
DTSTAMP:20260424T194712
CREATED:20240904T160819Z
LAST-MODIFIED:20240904T160819Z
UID:10002297-1727005500-1727010000@www.lifechurchal.com
SUMMARY:New Attenders Lunch
DESCRIPTION:Are you new here and would like to learn more about LifeChurch?  Join us in the Café on Sunday\, September 22 for a meet and greet with the Pastor and staff to learn more about LifeChurch.
URL:http://www.lifechurchal.com/event/new-attenders-lunch/
LOCATION:LifeChurch Birmingham\, 5567 Chalkville Rd.\, Birmingham\, AL\, 35235\, United States
ATTACH;FMTTYPE=image/png:http://www.lifechurchal.com/wp-content/uploads/2024/09/LifeChurch-Info-Luncheon.png
GEO:33.6523979;-86.6381384
X-APPLE-STRUCTURED-LOCATION;VALUE=URI;X-ADDRESS=LifeChurch Birmingham 5567 Chalkville Rd. Birmingham AL 35235 United States;X-APPLE-RADIUS=500;X-TITLE=5567 Chalkville Rd.:geo:-86.6381384,33.6523979
END:VEVENT
BEGIN:VEVENT
DTSTART;TZID=America/New_York:20240925T184500
DTEND;TZID=America/New_York:20240925T200000
DTSTAMP:20260424T194712
CREATED:20230605T162557Z
LAST-MODIFIED:20240813T185056Z
UID:10001725-1727289900-1727294400@www.lifechurchal.com
SUMMARY:Wednesday Night Prayer
DESCRIPTION:
URL:http://www.lifechurchal.com/event/wednesday-night-prayer-2-2/2024-09-25/
LOCATION:LifeChurch Birmingham\, 5567 Chalkville Rd.\, Birmingham\, AL\, 35235\, United States
CATEGORIES:Worship Experience
ATTACH;FMTTYPE=image/jpeg:http://www.lifechurchal.com/wp-content/uploads/2016/01/the_secret_place-background-still-16x9.jpg
GEO:33.6523979;-86.6381384
X-APPLE-STRUCTURED-LOCATION;VALUE=URI;X-ADDRESS=LifeChurch Birmingham 5567 Chalkville Rd. Birmingham AL 35235 United States;X-APPLE-RADIUS=500;X-TITLE=5567 Chalkville Rd.:geo:-86.6381384,33.6523979
END:VEVENT
BEGIN:VEVENT
DTSTART;TZID=America/New_York:20240929T100000
DTEND;TZID=America/New_York:20240929T120000
DTSTAMP:20260424T194712
CREATED:20250907T164104Z
LAST-MODIFIED:20250904T193605Z
UID:10001979-1727604000-1727611200@www.lifechurchal.com
SUMMARY:Sunday Morning Worship Experience
DESCRIPTION:
URL:http://www.lifechurchal.com/event/sunday-morning-worship-experience/2024-09-29/
LOCATION:LifeChurch Birmingham\, 5567 Chalkville Rd.\, Birmingham\, AL\, 35235\, United States
CATEGORIES:Worship Experience
ATTACH;FMTTYPE=image/jpeg:http://www.lifechurchal.com/wp-content/uploads/abstract-q-c-850-547-4.jpg
GEO:33.6523979;-86.6381384
X-APPLE-STRUCTURED-LOCATION;VALUE=URI;X-ADDRESS=LifeChurch Birmingham 5567 Chalkville Rd. Birmingham AL 35235 United States;X-APPLE-RADIUS=500;X-TITLE=5567 Chalkville Rd.:geo:-86.6381384,33.6523979
END:VEVENT
END:VCALENDAR