BEGIN:VCALENDAR
VERSION:2.0
PRODID:-//Life Church Birmingham - ECPv6.15.13//NONSGML v1.0//EN
CALSCALE:GREGORIAN
METHOD:PUBLISH
X-WR-CALNAME:Life Church Birmingham
X-ORIGINAL-URL:http://www.lifechurchal.com
X-WR-CALDESC:Events for Life Church Birmingham
REFRESH-INTERVAL;VALUE=DURATION:PT1H
X-Robots-Tag:noindex
X-PUBLISHED-TTL:PT1H
BEGIN:VTIMEZONE
TZID:America/New_York
BEGIN:DAYLIGHT
TZOFFSETFROM:-0500
TZOFFSETTO:-0400
TZNAME:EDT
DTSTART:20260308T070000
END:DAYLIGHT
BEGIN:STANDARD
TZOFFSETFROM:-0400
TZOFFSETTO:-0500
TZNAME:EST
DTSTART:20261101T060000
END:STANDARD
BEGIN:DAYLIGHT
TZOFFSETFROM:-0500
TZOFFSETTO:-0400
TZNAME:EDT
DTSTART:20270314T070000
END:DAYLIGHT
BEGIN:STANDARD
TZOFFSETFROM:-0400
TZOFFSETTO:-0500
TZNAME:EST
DTSTART:20271107T060000
END:STANDARD
BEGIN:DAYLIGHT
TZOFFSETFROM:-0500
TZOFFSETTO:-0400
TZNAME:EDT
DTSTART:20280312T070000
END:DAYLIGHT
BEGIN:STANDARD
TZOFFSETFROM:-0400
TZOFFSETTO:-0500
TZNAME:EST
DTSTART:20281105T060000
END:STANDARD
END:VTIMEZONE
BEGIN:VEVENT
DTSTART;TZID=America/New_York:20271201T184500
DTEND;TZID=America/New_York:20271201T200000
DTSTAMP:20260424T230350
CREATED:20230605T162557Z
LAST-MODIFIED:20240813T185056Z
UID:10001891-1827686700-1827691200@www.lifechurchal.com
SUMMARY:Wednesday Night Prayer
DESCRIPTION:
URL:http://www.lifechurchal.com/event/wednesday-night-prayer-2-2/2027-12-01/
LOCATION:LifeChurch Birmingham\, 5567 Chalkville Rd.\, Birmingham\, AL\, 35235\, United States
CATEGORIES:Worship Experience
ATTACH;FMTTYPE=image/jpeg:http://www.lifechurchal.com/wp-content/uploads/2016/01/the_secret_place-background-still-16x9.jpg
GEO:33.6523979;-86.6381384
X-APPLE-STRUCTURED-LOCATION;VALUE=URI;X-ADDRESS=LifeChurch Birmingham 5567 Chalkville Rd. Birmingham AL 35235 United States;X-APPLE-RADIUS=500;X-TITLE=5567 Chalkville Rd.:geo:-86.6381384,33.6523979
END:VEVENT
BEGIN:VEVENT
DTSTART;TZID=America/New_York:20271201T184500
DTEND;TZID=America/New_York:20271201T200000
DTSTAMP:20260424T230350
CREATED:20250904T193823Z
LAST-MODIFIED:20250908T174150Z
UID:10002417-1827686700-1827691200@www.lifechurchal.com
SUMMARY:Wednesday Night Prayer
DESCRIPTION:
URL:http://www.lifechurchal.com/event/wednesday-night-prayer/2027-12-01/
LOCATION:AL
CATEGORIES:Worship Experience
END:VEVENT
BEGIN:VEVENT
DTSTART;TZID=America/New_York:20271205T100000
DTEND;TZID=America/New_York:20271205T120000
DTSTAMP:20260424T230350
CREATED:20250907T164104Z
LAST-MODIFIED:20250904T193605Z
UID:10002145-1828000800-1828008000@www.lifechurchal.com
SUMMARY:Sunday Morning Worship Experience
DESCRIPTION:
URL:http://www.lifechurchal.com/event/sunday-morning-worship-experience/2027-12-05/
LOCATION:LifeChurch Birmingham\, 5567 Chalkville Rd.\, Birmingham\, AL\, 35235\, United States
CATEGORIES:Worship Experience
ATTACH;FMTTYPE=image/jpeg:http://www.lifechurchal.com/wp-content/uploads/abstract-q-c-850-547-4.jpg
GEO:33.6523979;-86.6381384
X-APPLE-STRUCTURED-LOCATION;VALUE=URI;X-ADDRESS=LifeChurch Birmingham 5567 Chalkville Rd. Birmingham AL 35235 United States;X-APPLE-RADIUS=500;X-TITLE=5567 Chalkville Rd.:geo:-86.6381384,33.6523979
END:VEVENT
BEGIN:VEVENT
DTSTART;TZID=America/New_York:20271208T184500
DTEND;TZID=America/New_York:20271208T200000
DTSTAMP:20260424T230350
CREATED:20230605T162557Z
LAST-MODIFIED:20240813T185056Z
UID:10001892-1828291500-1828296000@www.lifechurchal.com
SUMMARY:Wednesday Night Prayer
DESCRIPTION:
URL:http://www.lifechurchal.com/event/wednesday-night-prayer-2-2/2027-12-08/
LOCATION:LifeChurch Birmingham\, 5567 Chalkville Rd.\, Birmingham\, AL\, 35235\, United States
CATEGORIES:Worship Experience
ATTACH;FMTTYPE=image/jpeg:http://www.lifechurchal.com/wp-content/uploads/2016/01/the_secret_place-background-still-16x9.jpg
GEO:33.6523979;-86.6381384
X-APPLE-STRUCTURED-LOCATION;VALUE=URI;X-ADDRESS=LifeChurch Birmingham 5567 Chalkville Rd. Birmingham AL 35235 United States;X-APPLE-RADIUS=500;X-TITLE=5567 Chalkville Rd.:geo:-86.6381384,33.6523979
END:VEVENT
BEGIN:VEVENT
DTSTART;TZID=America/New_York:20271208T184500
DTEND;TZID=America/New_York:20271208T200000
DTSTAMP:20260424T230350
CREATED:20250904T193823Z
LAST-MODIFIED:20250908T174150Z
UID:10002418-1828291500-1828296000@www.lifechurchal.com
SUMMARY:Wednesday Night Prayer
DESCRIPTION:
URL:http://www.lifechurchal.com/event/wednesday-night-prayer/2027-12-08/
LOCATION:AL
CATEGORIES:Worship Experience
END:VEVENT
BEGIN:VEVENT
DTSTART;TZID=America/New_York:20271212T100000
DTEND;TZID=America/New_York:20271212T120000
DTSTAMP:20260424T230350
CREATED:20250907T164104Z
LAST-MODIFIED:20250904T193605Z
UID:10002146-1828605600-1828612800@www.lifechurchal.com
SUMMARY:Sunday Morning Worship Experience
DESCRIPTION:
URL:http://www.lifechurchal.com/event/sunday-morning-worship-experience/2027-12-12/
LOCATION:LifeChurch Birmingham\, 5567 Chalkville Rd.\, Birmingham\, AL\, 35235\, United States
CATEGORIES:Worship Experience
ATTACH;FMTTYPE=image/jpeg:http://www.lifechurchal.com/wp-content/uploads/abstract-q-c-850-547-4.jpg
GEO:33.6523979;-86.6381384
X-APPLE-STRUCTURED-LOCATION;VALUE=URI;X-ADDRESS=LifeChurch Birmingham 5567 Chalkville Rd. Birmingham AL 35235 United States;X-APPLE-RADIUS=500;X-TITLE=5567 Chalkville Rd.:geo:-86.6381384,33.6523979
END:VEVENT
BEGIN:VEVENT
DTSTART;TZID=America/New_York:20271215T184500
DTEND;TZID=America/New_York:20271215T200000
DTSTAMP:20260424T230350
CREATED:20230605T162557Z
LAST-MODIFIED:20240813T185056Z
UID:10001893-1828896300-1828900800@www.lifechurchal.com
SUMMARY:Wednesday Night Prayer
DESCRIPTION:
URL:http://www.lifechurchal.com/event/wednesday-night-prayer-2-2/2027-12-15/
LOCATION:LifeChurch Birmingham\, 5567 Chalkville Rd.\, Birmingham\, AL\, 35235\, United States
CATEGORIES:Worship Experience
ATTACH;FMTTYPE=image/jpeg:http://www.lifechurchal.com/wp-content/uploads/2016/01/the_secret_place-background-still-16x9.jpg
GEO:33.6523979;-86.6381384
X-APPLE-STRUCTURED-LOCATION;VALUE=URI;X-ADDRESS=LifeChurch Birmingham 5567 Chalkville Rd. Birmingham AL 35235 United States;X-APPLE-RADIUS=500;X-TITLE=5567 Chalkville Rd.:geo:-86.6381384,33.6523979
END:VEVENT
BEGIN:VEVENT
DTSTART;TZID=America/New_York:20271215T184500
DTEND;TZID=America/New_York:20271215T200000
DTSTAMP:20260424T230350
CREATED:20250904T193823Z
LAST-MODIFIED:20250908T174150Z
UID:10002419-1828896300-1828900800@www.lifechurchal.com
SUMMARY:Wednesday Night Prayer
DESCRIPTION:
URL:http://www.lifechurchal.com/event/wednesday-night-prayer/2027-12-15/
LOCATION:AL
CATEGORIES:Worship Experience
END:VEVENT
BEGIN:VEVENT
DTSTART;TZID=America/New_York:20271219T100000
DTEND;TZID=America/New_York:20271219T120000
DTSTAMP:20260424T230350
CREATED:20250907T164104Z
LAST-MODIFIED:20250904T193605Z
UID:10002147-1829210400-1829217600@www.lifechurchal.com
SUMMARY:Sunday Morning Worship Experience
DESCRIPTION:
URL:http://www.lifechurchal.com/event/sunday-morning-worship-experience/2027-12-19/
LOCATION:LifeChurch Birmingham\, 5567 Chalkville Rd.\, Birmingham\, AL\, 35235\, United States
CATEGORIES:Worship Experience
ATTACH;FMTTYPE=image/jpeg:http://www.lifechurchal.com/wp-content/uploads/abstract-q-c-850-547-4.jpg
GEO:33.6523979;-86.6381384
X-APPLE-STRUCTURED-LOCATION;VALUE=URI;X-ADDRESS=LifeChurch Birmingham 5567 Chalkville Rd. Birmingham AL 35235 United States;X-APPLE-RADIUS=500;X-TITLE=5567 Chalkville Rd.:geo:-86.6381384,33.6523979
END:VEVENT
BEGIN:VEVENT
DTSTART;TZID=America/New_York:20271222T184500
DTEND;TZID=America/New_York:20271222T200000
DTSTAMP:20260424T230350
CREATED:20230605T162557Z
LAST-MODIFIED:20240813T185056Z
UID:10001894-1829501100-1829505600@www.lifechurchal.com
SUMMARY:Wednesday Night Prayer
DESCRIPTION:
URL:http://www.lifechurchal.com/event/wednesday-night-prayer-2-2/2027-12-22/
LOCATION:LifeChurch Birmingham\, 5567 Chalkville Rd.\, Birmingham\, AL\, 35235\, United States
CATEGORIES:Worship Experience
ATTACH;FMTTYPE=image/jpeg:http://www.lifechurchal.com/wp-content/uploads/2016/01/the_secret_place-background-still-16x9.jpg
GEO:33.6523979;-86.6381384
X-APPLE-STRUCTURED-LOCATION;VALUE=URI;X-ADDRESS=LifeChurch Birmingham 5567 Chalkville Rd. Birmingham AL 35235 United States;X-APPLE-RADIUS=500;X-TITLE=5567 Chalkville Rd.:geo:-86.6381384,33.6523979
END:VEVENT
BEGIN:VEVENT
DTSTART;TZID=America/New_York:20271222T184500
DTEND;TZID=America/New_York:20271222T200000
DTSTAMP:20260424T230350
CREATED:20250904T193823Z
LAST-MODIFIED:20250908T174150Z
UID:10002420-1829501100-1829505600@www.lifechurchal.com
SUMMARY:Wednesday Night Prayer
DESCRIPTION:
URL:http://www.lifechurchal.com/event/wednesday-night-prayer/2027-12-22/
LOCATION:AL
CATEGORIES:Worship Experience
END:VEVENT
BEGIN:VEVENT
DTSTART;TZID=America/New_York:20271226T100000
DTEND;TZID=America/New_York:20271226T120000
DTSTAMP:20260424T230350
CREATED:20250907T164104Z
LAST-MODIFIED:20250904T193605Z
UID:10002148-1829815200-1829822400@www.lifechurchal.com
SUMMARY:Sunday Morning Worship Experience
DESCRIPTION:
URL:http://www.lifechurchal.com/event/sunday-morning-worship-experience/2027-12-26/
LOCATION:LifeChurch Birmingham\, 5567 Chalkville Rd.\, Birmingham\, AL\, 35235\, United States
CATEGORIES:Worship Experience
ATTACH;FMTTYPE=image/jpeg:http://www.lifechurchal.com/wp-content/uploads/abstract-q-c-850-547-4.jpg
GEO:33.6523979;-86.6381384
X-APPLE-STRUCTURED-LOCATION;VALUE=URI;X-ADDRESS=LifeChurch Birmingham 5567 Chalkville Rd. Birmingham AL 35235 United States;X-APPLE-RADIUS=500;X-TITLE=5567 Chalkville Rd.:geo:-86.6381384,33.6523979
END:VEVENT
BEGIN:VEVENT
DTSTART;TZID=America/New_York:20271229T184500
DTEND;TZID=America/New_York:20271229T200000
DTSTAMP:20260424T230350
CREATED:20230605T162557Z
LAST-MODIFIED:20240813T185056Z
UID:10001895-1830105900-1830110400@www.lifechurchal.com
SUMMARY:Wednesday Night Prayer
DESCRIPTION:
URL:http://www.lifechurchal.com/event/wednesday-night-prayer-2-2/2027-12-29/
LOCATION:LifeChurch Birmingham\, 5567 Chalkville Rd.\, Birmingham\, AL\, 35235\, United States
CATEGORIES:Worship Experience
ATTACH;FMTTYPE=image/jpeg:http://www.lifechurchal.com/wp-content/uploads/2016/01/the_secret_place-background-still-16x9.jpg
GEO:33.6523979;-86.6381384
X-APPLE-STRUCTURED-LOCATION;VALUE=URI;X-ADDRESS=LifeChurch Birmingham 5567 Chalkville Rd. Birmingham AL 35235 United States;X-APPLE-RADIUS=500;X-TITLE=5567 Chalkville Rd.:geo:-86.6381384,33.6523979
END:VEVENT
BEGIN:VEVENT
DTSTART;TZID=America/New_York:20271229T184500
DTEND;TZID=America/New_York:20271229T200000
DTSTAMP:20260424T230350
CREATED:20250904T193823Z
LAST-MODIFIED:20250908T174150Z
UID:10002421-1830105900-1830110400@www.lifechurchal.com
SUMMARY:Wednesday Night Prayer
DESCRIPTION:
URL:http://www.lifechurchal.com/event/wednesday-night-prayer/2027-12-29/
LOCATION:AL
CATEGORIES:Worship Experience
END:VEVENT
END:VCALENDAR