BEGIN:VCALENDAR
VERSION:2.0
PRODID:-//Life Church Birmingham - ECPv6.15.13//NONSGML v1.0//EN
CALSCALE:GREGORIAN
METHOD:PUBLISH
X-ORIGINAL-URL:http://www.lifechurchal.com
X-WR-CALDESC:Events for Life Church Birmingham
REFRESH-INTERVAL;VALUE=DURATION:PT1H
X-Robots-Tag:noindex
X-PUBLISHED-TTL:PT1H
BEGIN:VTIMEZONE
TZID:America/New_York
BEGIN:DAYLIGHT
TZOFFSETFROM:-0500
TZOFFSETTO:-0400
TZNAME:EDT
DTSTART:20260308T070000
END:DAYLIGHT
BEGIN:STANDARD
TZOFFSETFROM:-0400
TZOFFSETTO:-0500
TZNAME:EST
DTSTART:20261101T060000
END:STANDARD
BEGIN:DAYLIGHT
TZOFFSETFROM:-0500
TZOFFSETTO:-0400
TZNAME:EDT
DTSTART:20270314T070000
END:DAYLIGHT
BEGIN:STANDARD
TZOFFSETFROM:-0400
TZOFFSETTO:-0500
TZNAME:EST
DTSTART:20271107T060000
END:STANDARD
BEGIN:DAYLIGHT
TZOFFSETFROM:-0500
TZOFFSETTO:-0400
TZNAME:EDT
DTSTART:20280312T070000
END:DAYLIGHT
BEGIN:STANDARD
TZOFFSETFROM:-0400
TZOFFSETTO:-0500
TZNAME:EST
DTSTART:20281105T060000
END:STANDARD
END:VTIMEZONE
BEGIN:VEVENT
DTSTART;TZID=America/New_York:20270303T184500
DTEND;TZID=America/New_York:20270303T200000
DTSTAMP:20260424T080907
CREATED:20230605T162557Z
LAST-MODIFIED:20240813T185056Z
UID:10001852-1804099500-1804104000@www.lifechurchal.com
SUMMARY:Wednesday Night Prayer
DESCRIPTION:
URL:http://www.lifechurchal.com/event/wednesday-night-prayer-2-2/2027-03-03/
LOCATION:LifeChurch Birmingham\, 5567 Chalkville Rd.\, Birmingham\, AL\, 35235\, United States
CATEGORIES:Worship Experience
ATTACH;FMTTYPE=image/jpeg:http://www.lifechurchal.com/wp-content/uploads/2016/01/the_secret_place-background-still-16x9.jpg
GEO:33.6523979;-86.6381384
X-APPLE-STRUCTURED-LOCATION;VALUE=URI;X-ADDRESS=LifeChurch Birmingham 5567 Chalkville Rd. Birmingham AL 35235 United States;X-APPLE-RADIUS=500;X-TITLE=5567 Chalkville Rd.:geo:-86.6381384,33.6523979
END:VEVENT
BEGIN:VEVENT
DTSTART;TZID=America/New_York:20270303T184500
DTEND;TZID=America/New_York:20270303T200000
DTSTAMP:20260424T080907
CREATED:20250904T193823Z
LAST-MODIFIED:20250908T174150Z
UID:10002378-1804099500-1804104000@www.lifechurchal.com
SUMMARY:Wednesday Night Prayer
DESCRIPTION:
URL:http://www.lifechurchal.com/event/wednesday-night-prayer/2027-03-03/
LOCATION:AL
CATEGORIES:Worship Experience
END:VEVENT
BEGIN:VEVENT
DTSTART;TZID=America/New_York:20270307T100000
DTEND;TZID=America/New_York:20270307T120000
DTSTAMP:20260424T080907
CREATED:20250907T164104Z
LAST-MODIFIED:20250904T193605Z
UID:10002106-1804413600-1804420800@www.lifechurchal.com
SUMMARY:Sunday Morning Worship Experience
DESCRIPTION:
URL:http://www.lifechurchal.com/event/sunday-morning-worship-experience/2027-03-07/
LOCATION:LifeChurch Birmingham\, 5567 Chalkville Rd.\, Birmingham\, AL\, 35235\, United States
CATEGORIES:Worship Experience
ATTACH;FMTTYPE=image/jpeg:http://www.lifechurchal.com/wp-content/uploads/abstract-q-c-850-547-4.jpg
GEO:33.6523979;-86.6381384
X-APPLE-STRUCTURED-LOCATION;VALUE=URI;X-ADDRESS=LifeChurch Birmingham 5567 Chalkville Rd. Birmingham AL 35235 United States;X-APPLE-RADIUS=500;X-TITLE=5567 Chalkville Rd.:geo:-86.6381384,33.6523979
END:VEVENT
BEGIN:VEVENT
DTSTART;TZID=America/New_York:20270310T184500
DTEND;TZID=America/New_York:20270310T200000
DTSTAMP:20260424T080907
CREATED:20230605T162557Z
LAST-MODIFIED:20240813T185056Z
UID:10001853-1804704300-1804708800@www.lifechurchal.com
SUMMARY:Wednesday Night Prayer
DESCRIPTION:
URL:http://www.lifechurchal.com/event/wednesday-night-prayer-2-2/2027-03-10/
LOCATION:LifeChurch Birmingham\, 5567 Chalkville Rd.\, Birmingham\, AL\, 35235\, United States
CATEGORIES:Worship Experience
ATTACH;FMTTYPE=image/jpeg:http://www.lifechurchal.com/wp-content/uploads/2016/01/the_secret_place-background-still-16x9.jpg
GEO:33.6523979;-86.6381384
X-APPLE-STRUCTURED-LOCATION;VALUE=URI;X-ADDRESS=LifeChurch Birmingham 5567 Chalkville Rd. Birmingham AL 35235 United States;X-APPLE-RADIUS=500;X-TITLE=5567 Chalkville Rd.:geo:-86.6381384,33.6523979
END:VEVENT
BEGIN:VEVENT
DTSTART;TZID=America/New_York:20270310T184500
DTEND;TZID=America/New_York:20270310T200000
DTSTAMP:20260424T080907
CREATED:20250904T193823Z
LAST-MODIFIED:20250908T174150Z
UID:10002379-1804704300-1804708800@www.lifechurchal.com
SUMMARY:Wednesday Night Prayer
DESCRIPTION:
URL:http://www.lifechurchal.com/event/wednesday-night-prayer/2027-03-10/
LOCATION:AL
CATEGORIES:Worship Experience
END:VEVENT
BEGIN:VEVENT
DTSTART;TZID=America/New_York:20270314T100000
DTEND;TZID=America/New_York:20270314T120000
DTSTAMP:20260424T080907
CREATED:20250907T164104Z
LAST-MODIFIED:20250904T193605Z
UID:10002107-1805018400-1805025600@www.lifechurchal.com
SUMMARY:Sunday Morning Worship Experience
DESCRIPTION:
URL:http://www.lifechurchal.com/event/sunday-morning-worship-experience/2027-03-14/
LOCATION:LifeChurch Birmingham\, 5567 Chalkville Rd.\, Birmingham\, AL\, 35235\, United States
CATEGORIES:Worship Experience
ATTACH;FMTTYPE=image/jpeg:http://www.lifechurchal.com/wp-content/uploads/abstract-q-c-850-547-4.jpg
GEO:33.6523979;-86.6381384
X-APPLE-STRUCTURED-LOCATION;VALUE=URI;X-ADDRESS=LifeChurch Birmingham 5567 Chalkville Rd. Birmingham AL 35235 United States;X-APPLE-RADIUS=500;X-TITLE=5567 Chalkville Rd.:geo:-86.6381384,33.6523979
END:VEVENT
BEGIN:VEVENT
DTSTART;TZID=America/New_York:20270317T184500
DTEND;TZID=America/New_York:20270317T200000
DTSTAMP:20260424T080907
CREATED:20230605T162557Z
LAST-MODIFIED:20240813T185056Z
UID:10001854-1805309100-1805313600@www.lifechurchal.com
SUMMARY:Wednesday Night Prayer
DESCRIPTION:
URL:http://www.lifechurchal.com/event/wednesday-night-prayer-2-2/2027-03-17/
LOCATION:LifeChurch Birmingham\, 5567 Chalkville Rd.\, Birmingham\, AL\, 35235\, United States
CATEGORIES:Worship Experience
ATTACH;FMTTYPE=image/jpeg:http://www.lifechurchal.com/wp-content/uploads/2016/01/the_secret_place-background-still-16x9.jpg
GEO:33.6523979;-86.6381384
X-APPLE-STRUCTURED-LOCATION;VALUE=URI;X-ADDRESS=LifeChurch Birmingham 5567 Chalkville Rd. Birmingham AL 35235 United States;X-APPLE-RADIUS=500;X-TITLE=5567 Chalkville Rd.:geo:-86.6381384,33.6523979
END:VEVENT
BEGIN:VEVENT
DTSTART;TZID=America/New_York:20270317T184500
DTEND;TZID=America/New_York:20270317T200000
DTSTAMP:20260424T080907
CREATED:20250904T193823Z
LAST-MODIFIED:20250908T174150Z
UID:10002380-1805309100-1805313600@www.lifechurchal.com
SUMMARY:Wednesday Night Prayer
DESCRIPTION:
URL:http://www.lifechurchal.com/event/wednesday-night-prayer/2027-03-17/
LOCATION:AL
CATEGORIES:Worship Experience
END:VEVENT
BEGIN:VEVENT
DTSTART;TZID=America/New_York:20270321T100000
DTEND;TZID=America/New_York:20270321T120000
DTSTAMP:20260424T080907
CREATED:20250907T164104Z
LAST-MODIFIED:20250904T193605Z
UID:10002108-1805623200-1805630400@www.lifechurchal.com
SUMMARY:Sunday Morning Worship Experience
DESCRIPTION:
URL:http://www.lifechurchal.com/event/sunday-morning-worship-experience/2027-03-21/
LOCATION:LifeChurch Birmingham\, 5567 Chalkville Rd.\, Birmingham\, AL\, 35235\, United States
CATEGORIES:Worship Experience
ATTACH;FMTTYPE=image/jpeg:http://www.lifechurchal.com/wp-content/uploads/abstract-q-c-850-547-4.jpg
GEO:33.6523979;-86.6381384
X-APPLE-STRUCTURED-LOCATION;VALUE=URI;X-ADDRESS=LifeChurch Birmingham 5567 Chalkville Rd. Birmingham AL 35235 United States;X-APPLE-RADIUS=500;X-TITLE=5567 Chalkville Rd.:geo:-86.6381384,33.6523979
END:VEVENT
BEGIN:VEVENT
DTSTART;TZID=America/New_York:20270324T184500
DTEND;TZID=America/New_York:20270324T200000
DTSTAMP:20260424T080907
CREATED:20230605T162557Z
LAST-MODIFIED:20240813T185056Z
UID:10001855-1805913900-1805918400@www.lifechurchal.com
SUMMARY:Wednesday Night Prayer
DESCRIPTION:
URL:http://www.lifechurchal.com/event/wednesday-night-prayer-2-2/2027-03-24/
LOCATION:LifeChurch Birmingham\, 5567 Chalkville Rd.\, Birmingham\, AL\, 35235\, United States
CATEGORIES:Worship Experience
ATTACH;FMTTYPE=image/jpeg:http://www.lifechurchal.com/wp-content/uploads/2016/01/the_secret_place-background-still-16x9.jpg
GEO:33.6523979;-86.6381384
X-APPLE-STRUCTURED-LOCATION;VALUE=URI;X-ADDRESS=LifeChurch Birmingham 5567 Chalkville Rd. Birmingham AL 35235 United States;X-APPLE-RADIUS=500;X-TITLE=5567 Chalkville Rd.:geo:-86.6381384,33.6523979
END:VEVENT
BEGIN:VEVENT
DTSTART;TZID=America/New_York:20270324T184500
DTEND;TZID=America/New_York:20270324T200000
DTSTAMP:20260424T080907
CREATED:20250904T193823Z
LAST-MODIFIED:20250908T174150Z
UID:10002381-1805913900-1805918400@www.lifechurchal.com
SUMMARY:Wednesday Night Prayer
DESCRIPTION:
URL:http://www.lifechurchal.com/event/wednesday-night-prayer/2027-03-24/
LOCATION:AL
CATEGORIES:Worship Experience
END:VEVENT
BEGIN:VEVENT
DTSTART;TZID=America/New_York:20270328T100000
DTEND;TZID=America/New_York:20270328T120000
DTSTAMP:20260424T080907
CREATED:20250907T164104Z
LAST-MODIFIED:20250904T193605Z
UID:10002109-1806228000-1806235200@www.lifechurchal.com
SUMMARY:Sunday Morning Worship Experience
DESCRIPTION:
URL:http://www.lifechurchal.com/event/sunday-morning-worship-experience/2027-03-28/
LOCATION:LifeChurch Birmingham\, 5567 Chalkville Rd.\, Birmingham\, AL\, 35235\, United States
CATEGORIES:Worship Experience
ATTACH;FMTTYPE=image/jpeg:http://www.lifechurchal.com/wp-content/uploads/abstract-q-c-850-547-4.jpg
GEO:33.6523979;-86.6381384
X-APPLE-STRUCTURED-LOCATION;VALUE=URI;X-ADDRESS=LifeChurch Birmingham 5567 Chalkville Rd. Birmingham AL 35235 United States;X-APPLE-RADIUS=500;X-TITLE=5567 Chalkville Rd.:geo:-86.6381384,33.6523979
END:VEVENT
BEGIN:VEVENT
DTSTART;TZID=America/New_York:20270331T184500
DTEND;TZID=America/New_York:20270331T200000
DTSTAMP:20260424T080907
CREATED:20230605T162557Z
LAST-MODIFIED:20240813T185056Z
UID:10001856-1806518700-1806523200@www.lifechurchal.com
SUMMARY:Wednesday Night Prayer
DESCRIPTION:
URL:http://www.lifechurchal.com/event/wednesday-night-prayer-2-2/2027-03-31/
LOCATION:LifeChurch Birmingham\, 5567 Chalkville Rd.\, Birmingham\, AL\, 35235\, United States
CATEGORIES:Worship Experience
ATTACH;FMTTYPE=image/jpeg:http://www.lifechurchal.com/wp-content/uploads/2016/01/the_secret_place-background-still-16x9.jpg
GEO:33.6523979;-86.6381384
X-APPLE-STRUCTURED-LOCATION;VALUE=URI;X-ADDRESS=LifeChurch Birmingham 5567 Chalkville Rd. Birmingham AL 35235 United States;X-APPLE-RADIUS=500;X-TITLE=5567 Chalkville Rd.:geo:-86.6381384,33.6523979
END:VEVENT
BEGIN:VEVENT
DTSTART;TZID=America/New_York:20270331T184500
DTEND;TZID=America/New_York:20270331T200000
DTSTAMP:20260424T080907
CREATED:20250904T193823Z
LAST-MODIFIED:20250908T174150Z
UID:10002382-1806518700-1806523200@www.lifechurchal.com
SUMMARY:Wednesday Night Prayer
DESCRIPTION:
URL:http://www.lifechurchal.com/event/wednesday-night-prayer/2027-03-31/
LOCATION:AL
CATEGORIES:Worship Experience
END:VEVENT
END:VCALENDAR