BEGIN:VCALENDAR
VERSION:2.0
PRODID:-//Life Church Birmingham - ECPv6.15.13//NONSGML v1.0//EN
CALSCALE:GREGORIAN
METHOD:PUBLISH
X-WR-CALNAME:Life Church Birmingham
X-ORIGINAL-URL:http://www.lifechurchal.com
X-WR-CALDESC:Events for Life Church Birmingham
REFRESH-INTERVAL;VALUE=DURATION:PT1H
X-Robots-Tag:noindex
X-PUBLISHED-TTL:PT1H
BEGIN:VTIMEZONE
TZID:America/New_York
BEGIN:DAYLIGHT
TZOFFSETFROM:-0500
TZOFFSETTO:-0400
TZNAME:EDT
DTSTART:20240310T070000
END:DAYLIGHT
BEGIN:STANDARD
TZOFFSETFROM:-0400
TZOFFSETTO:-0500
TZNAME:EST
DTSTART:20241103T060000
END:STANDARD
BEGIN:DAYLIGHT
TZOFFSETFROM:-0500
TZOFFSETTO:-0400
TZNAME:EDT
DTSTART:20250309T070000
END:DAYLIGHT
BEGIN:STANDARD
TZOFFSETFROM:-0400
TZOFFSETTO:-0500
TZNAME:EST
DTSTART:20251102T060000
END:STANDARD
BEGIN:DAYLIGHT
TZOFFSETFROM:-0500
TZOFFSETTO:-0400
TZNAME:EDT
DTSTART:20260308T070000
END:DAYLIGHT
BEGIN:STANDARD
TZOFFSETFROM:-0400
TZOFFSETTO:-0500
TZNAME:EST
DTSTART:20261101T060000
END:STANDARD
END:VTIMEZONE
BEGIN:VEVENT
DTSTART;TZID=America/New_York:20251001T184500
DTEND;TZID=America/New_York:20251001T200000
DTSTAMP:20260424T001114
CREATED:20230605T162557Z
LAST-MODIFIED:20240813T185056Z
UID:10001778-1759344300-1759348800@www.lifechurchal.com
SUMMARY:Wednesday Night Prayer
DESCRIPTION:
URL:http://www.lifechurchal.com/event/wednesday-night-prayer-2-2/2025-10-01/
LOCATION:LifeChurch Birmingham\, 5567 Chalkville Rd.\, Birmingham\, AL\, 35235\, United States
CATEGORIES:Worship Experience
ATTACH;FMTTYPE=image/jpeg:http://www.lifechurchal.com/wp-content/uploads/2016/01/the_secret_place-background-still-16x9.jpg
GEO:33.6523979;-86.6381384
X-APPLE-STRUCTURED-LOCATION;VALUE=URI;X-ADDRESS=LifeChurch Birmingham 5567 Chalkville Rd. Birmingham AL 35235 United States;X-APPLE-RADIUS=500;X-TITLE=5567 Chalkville Rd.:geo:-86.6381384,33.6523979
END:VEVENT
BEGIN:VEVENT
DTSTART;TZID=America/New_York:20251001T184500
DTEND;TZID=America/New_York:20251001T200000
DTSTAMP:20260424T001114
CREATED:20250904T193823Z
LAST-MODIFIED:20250908T174150Z
UID:10002304-1759344300-1759348800@www.lifechurchal.com
SUMMARY:Wednesday Night Prayer
DESCRIPTION:
URL:http://www.lifechurchal.com/event/wednesday-night-prayer/2025-10-01/
LOCATION:AL
CATEGORIES:Worship Experience
END:VEVENT
BEGIN:VEVENT
DTSTART;TZID=America/New_York:20251005T100000
DTEND;TZID=America/New_York:20251005T120000
DTSTAMP:20260424T001114
CREATED:20250907T164104Z
LAST-MODIFIED:20250904T193605Z
UID:10002032-1759658400-1759665600@www.lifechurchal.com
SUMMARY:Sunday Morning Worship Experience
DESCRIPTION:
URL:http://www.lifechurchal.com/event/sunday-morning-worship-experience/2025-10-05/
LOCATION:LifeChurch Birmingham\, 5567 Chalkville Rd.\, Birmingham\, AL\, 35235\, United States
CATEGORIES:Worship Experience
ATTACH;FMTTYPE=image/jpeg:http://www.lifechurchal.com/wp-content/uploads/abstract-q-c-850-547-4.jpg
GEO:33.6523979;-86.6381384
X-APPLE-STRUCTURED-LOCATION;VALUE=URI;X-ADDRESS=LifeChurch Birmingham 5567 Chalkville Rd. Birmingham AL 35235 United States;X-APPLE-RADIUS=500;X-TITLE=5567 Chalkville Rd.:geo:-86.6381384,33.6523979
END:VEVENT
BEGIN:VEVENT
DTSTART;TZID=America/New_York:20251008T184500
DTEND;TZID=America/New_York:20251008T200000
DTSTAMP:20260424T001114
CREATED:20230605T162557Z
LAST-MODIFIED:20240813T185056Z
UID:10001779-1759949100-1759953600@www.lifechurchal.com
SUMMARY:Wednesday Night Prayer
DESCRIPTION:
URL:http://www.lifechurchal.com/event/wednesday-night-prayer-2-2/2025-10-08/
LOCATION:LifeChurch Birmingham\, 5567 Chalkville Rd.\, Birmingham\, AL\, 35235\, United States
CATEGORIES:Worship Experience
ATTACH;FMTTYPE=image/jpeg:http://www.lifechurchal.com/wp-content/uploads/2016/01/the_secret_place-background-still-16x9.jpg
GEO:33.6523979;-86.6381384
X-APPLE-STRUCTURED-LOCATION;VALUE=URI;X-ADDRESS=LifeChurch Birmingham 5567 Chalkville Rd. Birmingham AL 35235 United States;X-APPLE-RADIUS=500;X-TITLE=5567 Chalkville Rd.:geo:-86.6381384,33.6523979
END:VEVENT
BEGIN:VEVENT
DTSTART;TZID=America/New_York:20251008T184500
DTEND;TZID=America/New_York:20251008T200000
DTSTAMP:20260424T001114
CREATED:20250904T193823Z
LAST-MODIFIED:20250908T174150Z
UID:10002305-1759949100-1759953600@www.lifechurchal.com
SUMMARY:Wednesday Night Prayer
DESCRIPTION:
URL:http://www.lifechurchal.com/event/wednesday-night-prayer/2025-10-08/
LOCATION:AL
CATEGORIES:Worship Experience
END:VEVENT
BEGIN:VEVENT
DTSTART;TZID=America/New_York:20251012T100000
DTEND;TZID=America/New_York:20251012T120000
DTSTAMP:20260424T001114
CREATED:20250907T164104Z
LAST-MODIFIED:20250904T193605Z
UID:10002033-1760263200-1760270400@www.lifechurchal.com
SUMMARY:Sunday Morning Worship Experience
DESCRIPTION:
URL:http://www.lifechurchal.com/event/sunday-morning-worship-experience/2025-10-12/
LOCATION:LifeChurch Birmingham\, 5567 Chalkville Rd.\, Birmingham\, AL\, 35235\, United States
CATEGORIES:Worship Experience
ATTACH;FMTTYPE=image/jpeg:http://www.lifechurchal.com/wp-content/uploads/abstract-q-c-850-547-4.jpg
GEO:33.6523979;-86.6381384
X-APPLE-STRUCTURED-LOCATION;VALUE=URI;X-ADDRESS=LifeChurch Birmingham 5567 Chalkville Rd. Birmingham AL 35235 United States;X-APPLE-RADIUS=500;X-TITLE=5567 Chalkville Rd.:geo:-86.6381384,33.6523979
END:VEVENT
BEGIN:VEVENT
DTSTART;TZID=America/New_York:20251015T184500
DTEND;TZID=America/New_York:20251015T200000
DTSTAMP:20260424T001114
CREATED:20230605T162557Z
LAST-MODIFIED:20240813T185056Z
UID:10001780-1760553900-1760558400@www.lifechurchal.com
SUMMARY:Wednesday Night Prayer
DESCRIPTION:
URL:http://www.lifechurchal.com/event/wednesday-night-prayer-2-2/2025-10-15/
LOCATION:LifeChurch Birmingham\, 5567 Chalkville Rd.\, Birmingham\, AL\, 35235\, United States
CATEGORIES:Worship Experience
ATTACH;FMTTYPE=image/jpeg:http://www.lifechurchal.com/wp-content/uploads/2016/01/the_secret_place-background-still-16x9.jpg
GEO:33.6523979;-86.6381384
X-APPLE-STRUCTURED-LOCATION;VALUE=URI;X-ADDRESS=LifeChurch Birmingham 5567 Chalkville Rd. Birmingham AL 35235 United States;X-APPLE-RADIUS=500;X-TITLE=5567 Chalkville Rd.:geo:-86.6381384,33.6523979
END:VEVENT
BEGIN:VEVENT
DTSTART;TZID=America/New_York:20251015T184500
DTEND;TZID=America/New_York:20251015T200000
DTSTAMP:20260424T001114
CREATED:20250904T193823Z
LAST-MODIFIED:20250908T174150Z
UID:10002306-1760553900-1760558400@www.lifechurchal.com
SUMMARY:Wednesday Night Prayer
DESCRIPTION:
URL:http://www.lifechurchal.com/event/wednesday-night-prayer/2025-10-15/
LOCATION:AL
CATEGORIES:Worship Experience
END:VEVENT
BEGIN:VEVENT
DTSTART;TZID=America/New_York:20251019T100000
DTEND;TZID=America/New_York:20251019T120000
DTSTAMP:20260424T001114
CREATED:20250907T164104Z
LAST-MODIFIED:20250904T193605Z
UID:10002034-1760868000-1760875200@www.lifechurchal.com
SUMMARY:Sunday Morning Worship Experience
DESCRIPTION:
URL:http://www.lifechurchal.com/event/sunday-morning-worship-experience/2025-10-19/
LOCATION:LifeChurch Birmingham\, 5567 Chalkville Rd.\, Birmingham\, AL\, 35235\, United States
CATEGORIES:Worship Experience
ATTACH;FMTTYPE=image/jpeg:http://www.lifechurchal.com/wp-content/uploads/abstract-q-c-850-547-4.jpg
GEO:33.6523979;-86.6381384
X-APPLE-STRUCTURED-LOCATION;VALUE=URI;X-ADDRESS=LifeChurch Birmingham 5567 Chalkville Rd. Birmingham AL 35235 United States;X-APPLE-RADIUS=500;X-TITLE=5567 Chalkville Rd.:geo:-86.6381384,33.6523979
END:VEVENT
BEGIN:VEVENT
DTSTART;TZID=America/New_York:20251022T184500
DTEND;TZID=America/New_York:20251022T200000
DTSTAMP:20260424T001114
CREATED:20230605T162557Z
LAST-MODIFIED:20240813T185056Z
UID:10001781-1761158700-1761163200@www.lifechurchal.com
SUMMARY:Wednesday Night Prayer
DESCRIPTION:
URL:http://www.lifechurchal.com/event/wednesday-night-prayer-2-2/2025-10-22/
LOCATION:LifeChurch Birmingham\, 5567 Chalkville Rd.\, Birmingham\, AL\, 35235\, United States
CATEGORIES:Worship Experience
ATTACH;FMTTYPE=image/jpeg:http://www.lifechurchal.com/wp-content/uploads/2016/01/the_secret_place-background-still-16x9.jpg
GEO:33.6523979;-86.6381384
X-APPLE-STRUCTURED-LOCATION;VALUE=URI;X-ADDRESS=LifeChurch Birmingham 5567 Chalkville Rd. Birmingham AL 35235 United States;X-APPLE-RADIUS=500;X-TITLE=5567 Chalkville Rd.:geo:-86.6381384,33.6523979
END:VEVENT
BEGIN:VEVENT
DTSTART;TZID=America/New_York:20251022T184500
DTEND;TZID=America/New_York:20251022T200000
DTSTAMP:20260424T001114
CREATED:20250904T193823Z
LAST-MODIFIED:20250908T174150Z
UID:10002307-1761158700-1761163200@www.lifechurchal.com
SUMMARY:Wednesday Night Prayer
DESCRIPTION:
URL:http://www.lifechurchal.com/event/wednesday-night-prayer/2025-10-22/
LOCATION:AL
CATEGORIES:Worship Experience
END:VEVENT
BEGIN:VEVENT
DTSTART;TZID=America/New_York:20251026T100000
DTEND;TZID=America/New_York:20251026T120000
DTSTAMP:20260424T001114
CREATED:20250907T164104Z
LAST-MODIFIED:20250904T193605Z
UID:10002035-1761472800-1761480000@www.lifechurchal.com
SUMMARY:Sunday Morning Worship Experience
DESCRIPTION:
URL:http://www.lifechurchal.com/event/sunday-morning-worship-experience/2025-10-26/
LOCATION:LifeChurch Birmingham\, 5567 Chalkville Rd.\, Birmingham\, AL\, 35235\, United States
CATEGORIES:Worship Experience
ATTACH;FMTTYPE=image/jpeg:http://www.lifechurchal.com/wp-content/uploads/abstract-q-c-850-547-4.jpg
GEO:33.6523979;-86.6381384
X-APPLE-STRUCTURED-LOCATION;VALUE=URI;X-ADDRESS=LifeChurch Birmingham 5567 Chalkville Rd. Birmingham AL 35235 United States;X-APPLE-RADIUS=500;X-TITLE=5567 Chalkville Rd.:geo:-86.6381384,33.6523979
END:VEVENT
BEGIN:VEVENT
DTSTART;TZID=America/New_York:20251029T184500
DTEND;TZID=America/New_York:20251029T200000
DTSTAMP:20260424T001114
CREATED:20230605T162557Z
LAST-MODIFIED:20240813T185056Z
UID:10001782-1761763500-1761768000@www.lifechurchal.com
SUMMARY:Wednesday Night Prayer
DESCRIPTION:
URL:http://www.lifechurchal.com/event/wednesday-night-prayer-2-2/2025-10-29/
LOCATION:LifeChurch Birmingham\, 5567 Chalkville Rd.\, Birmingham\, AL\, 35235\, United States
CATEGORIES:Worship Experience
ATTACH;FMTTYPE=image/jpeg:http://www.lifechurchal.com/wp-content/uploads/2016/01/the_secret_place-background-still-16x9.jpg
GEO:33.6523979;-86.6381384
X-APPLE-STRUCTURED-LOCATION;VALUE=URI;X-ADDRESS=LifeChurch Birmingham 5567 Chalkville Rd. Birmingham AL 35235 United States;X-APPLE-RADIUS=500;X-TITLE=5567 Chalkville Rd.:geo:-86.6381384,33.6523979
END:VEVENT
BEGIN:VEVENT
DTSTART;TZID=America/New_York:20251029T184500
DTEND;TZID=America/New_York:20251029T200000
DTSTAMP:20260424T001114
CREATED:20250904T193823Z
LAST-MODIFIED:20250908T174150Z
UID:10002308-1761763500-1761768000@www.lifechurchal.com
SUMMARY:Wednesday Night Prayer
DESCRIPTION:
URL:http://www.lifechurchal.com/event/wednesday-night-prayer/2025-10-29/
LOCATION:AL
CATEGORIES:Worship Experience
END:VEVENT
END:VCALENDAR